Workbook
Name Marmot_07_Genotypes_Table_mix2v2: Tous!$B$1:$I$967

Sheet Tous
A1: Mix | B1: Individu | C1: Marqueur | D1: Allèle 1 | E1: Allèle 2 | F1: Taille 1 (en pb) | G1: Taille 2 (en pb) | H1: Hauteur pic 1 | I1: Hauteur pic 2
A2: =VLOOKUP(Tous!C2,#REF!,2,FALSE) -> #REF! | B2: 1360 | C2: Bibl1 | D2: 97 | E2: 107 | F2: 98.87 | G2: 108.16 | H2: 8785 | I2: 5704
A3: =VLOOKUP(Tous!C3,#REF!,2,FALSE) -> #REF! | B3: 1360 | C3: Bibl18 | D3: 145 | E3: 147 | F3: 145.62 | G3: 147.73 | H3: 2487 | I3: 1611
A4: =VLOOKUP(Tous!C4,#REF!,2,FALSE) -> #REF! | B4: 1360 | C4: Bibl20 | D4: 208 | E4: 216 | F4: 207.26 | G4: 215.42 | H4: 7420 | I4: 4567
A5: =VLOOKUP(Tous!C5,#REF!,2,FALSE) -> #REF! | B5: 1360 | C5: Bibl31 | D5: 157 | E5: 163 | F5: 157.71 | G5: 163.4 | H5: 17048 | I5: 12491
A6: =VLOOKUP(Tous!C6,#REF!,2,FALSE) -> #REF! | B6: 1360 | C6: Bibl4 | D6: 190 | E6: 192 | F6: 191.25 | G6: 193.22 | H6: 1812 | I6: 1096
A7: =VLOOKUP(Tous!C7,#REF!,2,FALSE) -> #REF! | B7: 1360 | C7: Ma001 | D7: 305 | E7: 307 | F7: 306.14 | G7: 308.15 | H7: 2331 | I7: 1420
A8: =VLOOKUP(Tous!C8,#REF!,2,FALSE) -> #REF! | B8: 1360 | C8: Ma002 | D8: 279 | E8: 281 | F8: 280.65 | G8: 282.56 | H8: 3952 | I8: 2078
A9: =VLOOKUP(Tous!C9,#REF!,2,FALSE) -> #REF! | B9: 1360 | C9: Ma018 | D9: 298 | F9: 296.77 | H9: 479
A10: =VLOOKUP(Tous!C10,#REF!,2,FALSE) -> #REF! | B10: 1360 | C10: Ma066 | D10: 231 | F10: 234.2 | H10: 439
A11: =VLOOKUP(Tous!C11,#REF!,2,FALSE) -> #REF! | B11: 1360 | C11: Ma091 | D11: 173 | E11: 175 | F11: 173.54 | G11: 175.51 | H11: 10140 | I11: 6435
A12: =VLOOKUP(Tous!C12,#REF!,2,FALSE) -> #REF! | B12: 1360 | C12: MS41 | D12: 184 | E12: 186 | F12: 185.02 | G12: 187.03 | H12: 3588 | I12: 2753
A13: =VLOOKUP(Tous!C13,#REF!,2,FALSE) -> #REF! | B13: 1360 | C13: MS45 | D13: 107 | F13: 107.69 | H13: 26601
A14: =VLOOKUP(Tous!C14,#REF!,2,FALSE) -> #REF! | B14: 1360 | C14: MS47 | D14: 184 | E14: 186 | F14: 184.75 | G14: 186.72 | H14: 7050 | I14: 4379
A15: =VLOOKUP(Tous!C15,#REF!,2,FALSE) -> #REF! | B15: 1360 | C15: MS53 | D15: 140 | E15: 142 | F15: 141.12 | G15: 143.41 | H15: 19148 | I15: 12818
A16: =VLOOKUP(Tous!C16,#REF!,2,FALSE) -> #REF! | B16: 1360 | C16: MS56 | D16: 106 | E16: 108 | F16: 107.4 | G16: 109.22 | H16: 14562 | I16: 11281
A17: =VLOOKUP(Tous!C17,#REF!,2,FALSE) -> #REF! | B17: 1360 | C17: MS6 | D17: 158 | F17: 158.32 | H17: 24372
A18: =VLOOKUP(Tous!C18,#REF!,2,FALSE) -> #REF! | B18: 1360 | C18: ST10 | D18: 116 | E18: 118 | F18: 117.06 | G18: 118.96 | H18: 4666 | I18: 3779
A19: =VLOOKUP(Tous!C19,#REF!,2,FALSE) -> #REF! | B19: 1373 | C19: Bibl1 | D19: 95 | E19: 101 | F19: 96.77 | G19: 102.46 | H19: 7807 | I19: 5098
A20: =VLOOKUP(Tous!C20,#REF!,2,FALSE) -> #REF! | B20: 1373 | C20: Bibl18 | D20: 147 | E20: 149 | F20: 147.55 | G20: 149.65 | H20: 4344 | I20: 2658
A21: =VLOOKUP(Tous!C21,#REF!,2,FALSE) -> #REF! | B21: 1373 | C21: Bibl20 | D21: 216 | E21: 218 | F21: 215.35 | G21: 217.4 | H21: 5679 | I21: 3625
A22: =VLOOKUP(Tous!C22,#REF!,2,FALSE) -> #REF! | B22: 1373 | C22: Bibl31 | D22: 157 | E22: 163 | F22: 157.51 | G22: 163.3 | H22: 22465 | I22: 14591
A23: =VLOOKUP(Tous!C23,#REF!,2,FALSE) -> #REF! | B23: 1373 | C23: Bibl4
A24: =VLOOKUP(Tous!C24,#REF!,2,FALSE) -> #REF! | B24: 1373 | C24: Ma001
A25: =VLOOKUP(Tous!C25,#REF!,2,FALSE) -> #REF! | B25: 1373 | C25: Ma002 | D25: 271 | E25: 279 | F25: 273.65 | G25: 280.38 | H25: 183 | I25: 183
A26: =VLOOKUP(Tous!C26,#REF!,2,FALSE) -> #REF! | B26: 1373 | C26: Ma018 | D26: 296 | E26: 298 | F26: 294.76 | G26: 296.55 | H26: 1724 | I26: 1401
A27: =VLOOKUP(Tous!C27,#REF!,2,FALSE) -> #REF! | B27: 1373 | C27: Ma066 | D27: 231 | F27: 233.94 | H27: 1339
A28: =VLOOKUP(Tous!C28,#REF!,2,FALSE) -> #REF! | B28: 1373 | C28: Ma091 | D28: 173 | E28: 175 | F28: 173.63 | G28: 175.46 | H28: 6816 | I28: 4576
A29: =VLOOKUP(Tous!C29,#REF!,2,FALSE) -> #REF! | B29: 1373 | C29: MS41 | D29: 186 | F29: 186.92 | H29: 8563
A30: =VLOOKUP(Tous!C30,#REF!,2,FALSE) -> #REF! | B30: 1373 | C30: MS45 | D30: 107 | E30: 109 | F30: 107.7 | G30: 109.76 | H30: 25082 | I30: 18105
A31: =VLOOKUP(Tous!C31,#REF!,2,FALSE) -> #REF! | B31: 1373 | C31: MS47 | D31: 180 | F31: 180.94 | H31: 5292
A32: =VLOOKUP(Tous!C32,#REF!,2,FALSE) -> #REF! | B32: 1373 | C32: MS53 | D32: 142 | F32: 143.33 | H32: 15806
A33: =VLOOKUP(Tous!C33,#REF!,2,FALSE) -> #REF! | B33: 1373 | C33: MS56 | D33: 106 | F33: 107.25 | H33: 14910
A34: =VLOOKUP(Tous!C34,#REF!,2,FALSE) -> #REF! | B34: 1373 | C34: MS6 | D34: 158 | F34: 158.29 | H34: 14768
A35: =VLOOKUP(Tous!C35,#REF!,2,FALSE) -> #REF! | B35: 1373 | C35: ST10 | D35: 116 | E35: 118 | F35: 117.1 | G35: 119.03 | H35: 4866 | I35: 3895
A36: =VLOOKUP(Tous!C36,#REF!,2,FALSE) -> #REF! | B36: 1417 | C36: Bibl1 | D36: 101 | E36: 103 | F36: 102.68 | G36: 104.47 | H36: 6709 | I36: 4391
A37: =VLOOKUP(Tous!C37,#REF!,2,FALSE) -> #REF! | B37: 1417 | C37: Bibl18 | D37: 143 | E37: 145 | F37: 143.51 | G37: 145.57 | H37: 5929 | I37: 3710
A38: =VLOOKUP(Tous!C38,#REF!,2,FALSE) -> #REF! | B38: 1417 | C38: Bibl20 | D38: 208 | F38: 207.33 | H38: 6785
A39: =VLOOKUP(Tous!C39,#REF!,2,FALSE) -> #REF! | B39: 1417 | C39: Bibl31 | D39: 157 | E39: 161 | F39: 157.7 | G39: 161.54 | H39: 13562 | I39: 13937
A40: =VLOOKUP(Tous!C40,#REF!,2,FALSE) -> #REF! | B40: 1417 | C40: Bibl4
...

Sheet comparaison_essai_1
A1: SampleFile | B1: SampleName | C1: RunName | D1: marker | E1: Dye | F1: Allele 1 | G1: Alle 2 | H1: Allele3 | I1: Alle_1_bool | J1: Allele2_bool | K1: erreur | L1: Individu | M1: Marqueur | N1: Allèle 1 | O1: Allèle 2
A2: 1_1360_E07_028.fsa | B2: 1360 | C2: E245_MARM_170517 | D2: Bibl1 | E2: B | F2: 97 | G2: 107 | I2: =IF(F2=N2,"",1) | J2: =IF(G2=O2,"",1) | K2: =IF(OR(I2=1,J2=1),1,"") | L2: 1360 | M2: Bibl1 | N2: 97 | O2: 107
A3: 2_1360_F07_028.fsa | B3: 1360 | C3: E245_MARM_170517 | D3: Bibl18 | E3: R | F3: 145 | G3: 147 | I3: =IF(F3=N3,"",1) | J3: =IF(G3=O3,"",1) | K3: =IF(OR(I3=1,J3=1),1,"") | L3: 1360 | M3: Bibl18 | N3: 145 | O3: 147
A4: 1_1360_E07_028.fsa | B4: 1360 | C4: E245_MARM_170517 | D4: Bibl20 | E4: G | F4: 208 | G4: 216 | I4: =IF(F4=N4,"",1) | J4: =IF(G4=O4,"",1) | K4: =IF(OR(I4=1,J4=1),1,"") | L4: 1360 | M4: Bibl20 | N4: 208 | O4: 216
A5: 2_1360_F07_028.fsa | B5: 1360 | C5: E245_MARM_170517 | D5: Bibl31 | E5: Y | F5: 157 | G5: 163 | I5: =IF(F5=N5,"",1) | J5: =IF(G5=O5,"",1) | K5: =IF(OR(I5=1,J5=1),1,"") | L5: 1360 | M5: Bibl31 | N5: 157 | O5: 163
A6: 1_1360_E07_028.fsa | B6: 1360 | C6: E245_MARM_170517 | D6: Bibl4 | E6: R | F6: 190 | G6: 192 | I6: =IF(F6=N6,"",1) | J6: =IF(G6=O6,"",1) | K6: =IF(OR(I6=1,J6=1),1,"") | L6: 1360 | M6: Bibl4 | N6: 190 | O6: 192
A7: 2_1360_F07_028.fsa | B7: 1360 | C7: E245_MARM_170517 | D7: Ma001 | E7: B | F7: 305 | G7: 307 | I7: =IF(F7=N7,"",1) | J7: =IF(G7=O7,"",1) | K7: =IF(OR(I7=1,J7=1),1,"") | L7: 1360 | M7: Ma001 | N7: 305 | O7: 307
A8: 2_1360_F07_028.fsa | B8: 1360 | C8: E245_MARM_170517 | D8: Ma002 | E8: Y | F8: 279 | G8: 281 | I8: =IF(F8=N8,"",1) | J8: =IF(G8=O8,"",1) | K8: =IF(OR(I8=1,J8=1),1,"") | L8: 1360 | M8: Ma002 | N8: 279 | O8: 281
A9: 2_1360_F07_028.fsa | B9: 1360 | C9: E245_MARM_170517 | D9: Ma018 | E9: G | F9: 298 | I9: =IF(F9=N9,"",1) | J9: =IF(G9=O9,"",1) | K9: =IF(OR(I9=1,J9=1),1,"") | L9: 1360 | M9: Ma018 | N9: 298
A10: 2_1360_F07_028.fsa | B10: 1360 | C10: E245_MARM_170517 | D10: Ma066 | E10: B | F10: 231 | I10: =IF(F10=N10,"",1) | J10: =IF(G10=O10,"",1) | K10: =IF(OR(I10=1,J10=1),1,"") | L10: 1360 | M10: Ma066 | N10: 231
A11: 1_1360_E07_028.fsa | B11: 1360 | C11: E245_MARM_170517 | D11: Ma091 | E11: B | F11: 173 | G11: 175 | I11: =IF(F11=N11,"",1) | J11: =IF(G11=O11,"",1) | K11: =IF(OR(I11=1,J11=1),1,"") | L11: 1360 | M11: Ma091 | N11: 173 | O11: 175
A12: 2_1360_F07_028.fsa | B12: 1360 | C12: E245_MARM_170517 | D12: MS41 | E12: G | F12: 184 | G12: 186 | I12: =IF(F12=N12,"",1) | J12: =IF(G12=O12,"",1) | K12: =IF(OR(I12=1,J12=1),1,"") | L12: 1360 | M12: MS41 | N12: 184 | O12: 186
A13: 2_1360_F07_028.fsa | B13: 1360 | C13: E245_MARM_170517 | D13: MS45 | E13: B | F13: 107 | I13: =IF(F13=N13,"",1) | J13: =IF(G13=O13,"",1) | K13: =IF(OR(I13=1,J13=1),1,"") | L13: 1360 | M13: MS45 | N13: 107
A14: 1_1360_E07_028.fsa | B14: 1360 | C14: E245_MARM_170517 | D14: MS47 | E14: Y | F14: 184 | G14: 186 | I14: =IF(F14=N14,"",1) | J14: =IF(G14=O14,"",1) | K14: =IF(OR(I14=1,J14=1),1,"") | L14: 1360 | M14: MS47 | N14: 184 | O14: 186
A15: 1_1360_E07_028.fsa | B15: 1360 | C15: E245_MARM_170517 | D15: MS53 | E15: Y | F15: 140 | G15: 142 | I15: =IF(F15=N15,"",1) | J15: =IF(G15=O15,"",1) | K15: =IF(OR(I15=1,J15=1),1,"") | L15: 1360 | M15: MS53 | N15: 140 | O15: 142
A16: 1_1360_E07_028.fsa | B16: 1360 | C16: E245_MARM_170517 | D16: MS56 | E16: G | F16: 108 | G16: 108 | I16: =IF(F16=N16,"",1) -> 1 | J16: =IF(G16=O16,"",1) | K16: =IF(OR(I16=1,J16=1),1,"") -> 1 | L16: 1360 | M16: MS56 | N16: 106 | O16: 108
A17: 1_1360_E07_028.fsa | B17: 1360 | C17: E245_MARM_170517 | D17: MS6 | E17: G | F17: 158 | I17: =IF(F17=N17,"",1) | J17: =IF(G17=O17,"",1) | K17: =IF(OR(I17=1,J17=1),1,"") | L17: 1360 | M17: MS6 | N17: 158
A18: 2_1360_F07_028.fsa | B18: 1360 | C18: E245_MARM_170517 | D18: ST10 | E18: G | F18: 116 | G18: 118 | I18: =IF(F18=N18,"",1) | J18: =IF(G18=O18,"",1) | K18: =IF(OR(I18=1,J18=1),1,"") | L18: 1360 | M18: ST10 | N18: 116 | O18: 118
A19: 1_1373_K15_054.fsa | B19: 1373 | C19: E245_MARM_170517 | D19: Bibl1 | E19: B | F19: 95 | G19: 101 | I19: =IF(F19=N19,"",1) | J19: =IF(G19=O19,"",1) | K19: =IF(OR(I19=1,J19=1),1,"") | L19: 1373 | M19: Bibl1 | N19: 95 | O19: 101
A20: 2_1373_L15_054.fsa | B20: 1373 | C20: E245_MARM_170517 | D20: Bibl18 | E20: R | F20: 147 | G20: 149 | I20: =IF(F20=N20,"",1) | J20: =IF(G20=O20,"",1) | K20: =IF(OR(I20=1,J20=1),1,"") | L20: 1373 | M20: Bibl18 | N20: 147 | O20: 149
A21: 1_1373_K15_054.fsa | B21: 1373 | C21: E245_MARM_170517 | D21: Bibl20 | E21: G | F21: 216 | G21: 218 | I21: =IF(F21=N21,"",1) | J21: =IF(G21=O21,"",1) | K21: =IF(OR(I21=1,J21=1),1,"") | L21: 1373 | M21: Bibl20 | N21: 216 | O21: 218
A22: 2_1373_L15_054.fsa | B22: 1373 | C22: E245_MARM_170517 | D22: Bibl31 | E22: Y | F22: 157 | G22: 163 | I22: =IF(F22=N22,"",1) | J22: =IF(G22=O22,"",1) | K22: =IF(OR(I22=1,J22=1),1,"") | L22: 1373 | M22: Bibl31 | N22: 157 | O22: 163
A23: 1_1373_K15_054.fsa | B23: 1373 | C23: E245_MARM_170517 | D23: Bibl4 | E23: R | F23: 188 | G23: 190 | I23: =IF(F23=N23,"",1) -> 1 | J23: =IF(G23=O23,"",1) -> 1 | K23: =IF(OR(I23=1,J23=1),1,"") -> 1 | L23: 1373 | M23: Bibl4
A24: 2_1373_L15_054.fsa | B24: 1373 | C24: E245_MARM_170517 | D24: Ma001 | E24: B | I24: =IF(F24=N24,"",1) | J24: =IF(G24=O24,"",1) | K24: =IF(OR(I24=1,J24=1),1,"") | L24: 1373 | M24: Ma001
A25: 2_1373_L15_054.fsa | B25: 1373 | C25: E245_MARM_170517 | D25: Ma002 | E25: Y | I25: =IF(F25=N25,"",1) -> 1 | J25: =IF(G25=O25,"",1) -> 1 | K25: =IF(OR(I25=1,J25=1),1,"") -> 1 | L25: 1373 | M25: Ma002 | N25: 271 | O25: 279
A26: 2_1373_L15_054.fsa | B26: 1373 | C26: E245_MARM_170517 | D26: Ma018 | E26: G | F26: 296 | G26: 298 | I26: =IF(F26=N26,"",1) | J26: =IF(G26=O26,"",1) | K26: =IF(OR(I26=1,J26=1),1,"") | L26: 1373 | M26: Ma018 | N26: 296 | O26: 298
A27: 2_1373_L15_054.fsa | B27: 1373 | C27: E245_MARM_170517 | D27: Ma066 | E27: B | F27: 231 | I27: =IF(F27=N27,"",1) | J27: =IF(G27=O27,"",1) | K27: =IF(OR(I27=1,J27=1),1,"") | L27: 1373 | M27: Ma066 | N27: 231
A28: 1_1373_K15_054.fsa | B28: 1373 | C28: E245_MARM_170517 | D28: Ma091 | E28: B | F28: 173 | G28: 175 | I28: =IF(F28=N28,"",1) | J28: =IF(G28=O28,"",1) | K28: =IF(OR(I28=1,J28=1),1,"") | L28: 1373 | M28: Ma091 | N28: 173 | O28: 175
A29: 2_1373_L15_054.fsa | B29: 1373 | C29: E245_MARM_170517 | D29: MS41 | E29: G | F29: 186 | I29: =IF(F29=N29,"",1) | J29: =IF(G29=O29,"",1) | K29: =IF(OR(I29=1,J29=1),1,"") | L29: 1373 | M29: MS41 | N29: 186
A30: 2_1373_L15_054.fsa | B30: 1373 | C30: E245_MARM_170517 | D30: MS45 | E30: B | F30: 107 | G30: 109 | I30: =IF(F30=N30,"",1) | J30: =IF(G30=O30,"",1) | K30: =IF(OR(I30=1,J30=1),1,"") | L30: 1373 | M30: MS45 | N30: 107 | O30: 109
A31: 1_1373_K15_054.fsa | B31: 1373 | C31: E245_MARM_170517 | D31: MS47 | E31: Y | F31: 180 | I31: =IF(F31=N31,"",1) | J31: =IF(G31=O31,"",1) | K31: =IF(OR(I31=1,J31=1),1,"") | L31: 1373 | M31: MS47 | N31: 180
A32: 1_1373_K15_054.fsa | B32: 1373 | C32: E245_MARM_170517 | D32: MS53 | E32: Y | F32: 142 | I32: =IF(F32=N32,"",1) | J32: =IF(G32=O32,"",1) | K32: =IF(OR(I32=1,J32=1),1,"") | L32: 1373 | M32: MS53 | N32: 142
A33: 1_1373_K15_054.fsa | B33: 1373 | C33: E245_MARM_170517 | D33: MS56 | E33: G | F33: 108 | I33: =IF(F33=N33,"",1) -> 1 | J33: =IF(G33=O33,"",1) | K33: =IF(OR(I33=1,J33=1),1,"") -> 1 | L33: 1373 | M33: MS56 | N33: 106
A34: 1_1373_K15_054.fsa | B34: 1373 | C34: E245_MARM_170517 | D34: MS6 | E34: G | F34: 158 | I34: =IF(F34=N34,"",1) | J34: =IF(G34=O34,"",1) | K34: =IF(OR(I34=1,J34=1),1,"") | L34: 1373 | M34: MS6 | N34: 158
A35: 2_1373_L15_054.fsa | B35: 1373 | C35: E245_MARM_170517 | D35: ST10 | E35: G | F35: 116 | G35: 118 | I35: =IF(F35=N35,"",1) | J35: =IF(G35=O35,"",1) | K35: =IF(OR(I35=1,J35=1),1,"") | L35: 1373 | M35: ST10 | N35: 116 | O35: 118
A36: 1_1417_A13_063.fsa | B36: 1417 | C36: E245_MARM_170517 | D36: Bibl1 | E36: B | F36: 101 | G36: 103 | I36: =IF(F36=N36,"",1) | J36: =IF(G36=O36,"",1) | K36: =IF(OR(I36=1,J36=1),1,"") | L36: 1417 | M36: Bibl1 | N36: 101 | O36: 103
A37: 2_1417_B13_063.fsa | B37: 1417 | C37: E245_MARM_170517 | D37: Bibl18 | E37: R | F37: 143 | G37: 145 | I37: =IF(F37=N37,"",1) | J37: =IF(G37=O37,"",1) | K37: =IF(OR(I37=1,J37=1),1,"") | L37: 1417 | M37: Bibl18 | N37: 143 | O37: 145
A38: 1_1417_A13_063.fsa | B38: 1417 | C38: E245_MARM_170517 | D38: Bibl20 | E38: G | F38: 208 | I38: =IF(F38=N38,"",1) | J38: =IF(G38=O38,"",1) | K38: =IF(OR(I38=1,J38=1),1,"") | L38: 1417 | M38: Bibl20 | N38: 208
A39: 2_1417_B13_063.fsa | B39: 1417 | C39: E245_MARM_170517 | D39: Bibl31 | E39: Y | F39: 157 | G39: 161 | I39: =IF(F39=N39,"",1) | J39: =IF(G39=O39,"",1) | K39: =IF(OR(I39=1,J39=1),1,"") | L39: 1417 | M39: Bibl31 | N39: 157 | O39: 161
A40: 1_1417_A13_063.fsa | B40: 1417 | C40: E245_MARM_170517 | D40: Bibl4 | E40: R | I40: =IF(F40=N40,"",1) | J40: =IF(G40=O40,"",1) | K40: =IF(OR(I40=1,J40=1),1,"") | L40: 1417 | M40: Bibl4
...

Sheet TAB_BILAN_essai1
A3: Nombre de erreur | B3: Étiquettes de colonnes
A4: Étiquettes de lignes | B4: 1 | D4: (vide) | E4: Total général | H4: Marqueur | I4: nb erreur | J4: nb correct | K4: Y
A5: Bibl1 | B5: 1 | C5: 95 | E5: 96 | H5: MS56 | I5: 60 | J5: 36 | K5: =I5/SUM(I5:J5) -> 0.625
A6: Bibl18 | B6: 4 | C6: 92 | E6: 96 | H6: Bibl4 | I6: 31 | J6: 65 | K6: =I6/SUM(I6:J6) -> 0.32291667
A7: Bibl20 | B7: 1 | C7: 95 | E7: 96 | H7: MS45 | I7: 13 | J7: 83 | K7: =I7/SUM(I7:J7) -> 0.13541667
A8: Bibl31 | B8: 2 | C8: 94 | E8: 96 | H8: ST10 | I8: 12 | J8: 84 | K8: =I8/SUM(I8:J8) -> 0.125
A9: Bibl4 | B9: 31 | C9: 65 | E9: 96 | H9: MS6 | I9: 8 | J9: 88 | K9: =I9/SUM(I9:J9) -> 0.083333333
A10: Ma001 | C10: 96 | E10: 96 | H10: Bibl18 | I10: 4 | J10: 92 | K10: =I10/SUM(I10:J10) -> 0.041666667
A11: Ma002 | B11: 2 | C11: 94 | E11: 96 | H11: Ma066 | I11: 4 | J11: 92 | K11: =I11/SUM(I11:J11) -> 0.041666667
A12: Ma018 | B12: 3 | C12: 93 | E12: 96 | H12: MS47 | I12: 4 | J12: 92 | K12: =I12/SUM(I12:J12) -> 0.041666667
A13: Ma066 | B13: 4 | C13: 92 | E13: 96 | H13: Ma018 | I13: 3 | J13: 93 | K13: =I13/SUM(I13:J13) -> 0.03125
A14: Ma091 | C14: 96 | E14: 96 | H14: MS53 | I14: 3 | J14: 93 | K14: =I14/SUM(I14:J14) -> 0.03125
A15: MS41 | B15: 1 | C15: 95 | E15: 96 | H15: Bibl31 | I15: 2 | J15: 94 | K15: =I15/SUM(I15:J15) -> 0.020833333
A16: MS45 | B16: 13 | C16: 83 | E16: 96 | H16: Ma002 | I16: 2 | J16: 94 | K16: =I16/SUM(I16:J16) -> 0.020833333
A17: MS47 | B17: 4 | C17: 92 | E17: 96 | H17: Bibl1 | I17: 1 | J17: 95 | K17: =I17/SUM(I17:J17) -> 0.010416667
A18: MS53 | B18: 3 | C18: 93 | E18: 96 | H18: Bibl20 | I18: 1 | J18: 95 | K18: =I18/SUM(I18:J18) -> 0.010416667
A19: MS56 | B19: 60 | C19: 36 | E19: 96 | H19: MS41 | I19: 1 | J19: 95 | K19: =I19/SUM(I19:J19) -> 0.010416667
A20: MS6 | B20: 8 | C20: 88 | E20: 96 | H20: Ma001 | I20: 0 | J20: 96 | K20: =I20/SUM(I20:J20) -> 0
A21: ST10 | B21: 12 | C21: 84 | E21: 96 | H21: Ma091 | I21: 0 | J21: 96 | K21: =I21/SUM(I21:J21) -> 0
A22: (vide)
A23: Total général | B23: 149 | C23: 1483 | E23: 1632

Sheet comparaison_essai2
A1: SampleFile | B1: SampleName | C1: RunName | D1: Marker | E1: Dye | F1: llele1 | G1: llele2 | I1: Alle_1_bool | J1: Allele2_bool | K1: erreur | L1: Individu | M1: Marqueur | N1: Allèle1 | O1: Allèle2 | P1: moi c NA | Q1: moi NA c | R1: quali different
A2: 1_1360_E07_028.fsa | B2: 1360 | C2: E245_MARM_170517 | D2: Bibl1 | E2: B | F2: 97 | G2: 107 | I2: =IF(F2=N2,"",1) | J2: =IF(G2=O2,"",1) | K2: =IF(OR(I2=1,J2=1),1,"") | L2: 1360 | M2: Bibl1 | N2: 97 | O2: 107
A3: 2_1360_F07_028.fsa | B3: 1360 | C3: E245_MARM_170517 | D3: Bibl18 | E3: R | F3: 145 | G3: 147 | I3: =IF(F3=N3,"",1) | J3: =IF(G3=O3,"",1) | K3: =IF(OR(I3=1,J3=1),1,"") | L3: 1360 | M3: Bibl18 | N3: 145 | O3: 147
A4: 1_1360_E07_028.fsa | B4: 1360 | C4: E245_MARM_170517 | D4: Bibl20 | E4: G | F4: 208 | G4: 216 | I4: =IF(F4=N4,"",1) | J4: =IF(G4=O4,"",1) | K4: =IF(OR(I4=1,J4=1),1,"") | L4: 1360 | M4: Bibl20 | N4: 208 | O4: 216
A5: 2_1360_F07_028.fsa | B5: 1360 | C5: E245_MARM_170517 | D5: Bibl31 | E5: Y | F5: 157 | G5: 163 | I5: =IF(F5=N5,"",1) | J5: =IF(G5=O5,"",1) | K5: =IF(OR(I5=1,J5=1),1,"") | L5: 1360 | M5: Bibl31 | N5: 157 | O5: 163
A6: 1_1360_E07_028.fsa | B6: 1360 | C6: E245_MARM_170517 | D6: Bibl4 | E6: R | F6: 190 | G6: 192 | I6: =IF(F6=N6,"",1) | J6: =IF(G6=O6,"",1) | K6: =IF(OR(I6=1,J6=1),1,"") | L6: 1360 | M6: Bibl4 | N6: 190 | O6: 192
A7: 2_1360_F07_028.fsa | B7: 1360 | C7: E245_MARM_170517 | D7: Ma001 | E7: B | F7: 305 | G7: 307 | I7: =IF(F7=N7,"",1) | J7: =IF(G7=O7,"",1) | K7: =IF(OR(I7=1,J7=1),1,"") | L7: 1360 | M7: Ma001 | N7: 305 | O7: 307
A8: 2_1360_F07_028.fsa | B8: 1360 | C8: E245_MARM_170517 | D8: Ma002 | E8: Y | F8: 279 | G8: 281 | I8: =IF(F8=N8,"",1) | J8: =IF(G8=O8,"",1) | K8: =IF(OR(I8=1,J8=1),1,"") | L8: 1360 | M8: Ma002 | N8: 279 | O8: 281
A9: 2_1360_F07_028.fsa | B9: 1360 | C9: E245_MARM_170517 | D9: Ma018 | E9: G | F9: 298 | I9: =IF(F9=N9,"",1) | J9: =IF(G9=O9,"",1) | K9: =IF(OR(I9=1,J9=1),1,"") | L9: 1360 | M9: Ma018 | N9: 298
A10: 2_1360_F07_028.fsa | B10: 1360 | C10: E245_MARM_170517 | D10: Ma066 | E10: B | F10: 231 | I10: =IF(F10=N10,"",1) | J10: =IF(G10=O10,"",1) | K10: =IF(OR(I10=1,J10=1),1,"") | L10: 1360 | M10: Ma066 | N10: 231
A11: 1_1360_E07_028.fsa | B11: 1360 | C11: E245_MARM_170517 | D11: Ma091 | E11: B | F11: 173 | G11: 175 | I11: =IF(F11=N11,"",1) | J11: =IF(G11=O11,"",1) | K11: =IF(OR(I11=1,J11=1),1,"") | L11: 1360 | M11: Ma091 | N11: 173 | O11: 175
A12: 2_1360_F07_028.fsa | B12: 1360 | C12: E245_MARM_170517 | D12: MS41 | E12: G | F12: 184 | G12: 186 | I12: =IF(F12=N12,"",1) | J12: =IF(G12=O12,"",1) | K12: =IF(OR(I12=1,J12=1),1,"") | L12: 1360 | M12: MS41 | N12: 184 | O12: 186
A13: 2_1360_F07_028.fsa | B13: 1360 | C13: E245_MARM_170517 | D13: MS45 | E13: B | F13: 107 | I13: =IF(F13=N13,"",1) | J13: =IF(G13=O13,"",1) | K13: =IF(OR(I13=1,J13=1),1,"") | L13: 1360 | M13: MS45 | N13: 107
A14: 1_1360_E07_028.fsa | B14: 1360 | C14: E245_MARM_170517 | D14: MS47 | E14: Y | F14: 184 | G14: 186 | I14: =IF(F14=N14,"",1) | J14: =IF(G14=O14,"",1) | K14: =IF(OR(I14=1,J14=1),1,"") | L14: 1360 | M14: MS47 | N14: 184 | O14: 186
A15: 1_1360_E07_028.fsa | B15: 1360 | C15: E245_MARM_170517 | D15: MS53 | E15: Y | F15: 140 | G15: 142 | I15: =IF(F15=N15,"",1) | J15: =IF(G15=O15,"",1) | K15: =IF(OR(I15=1,J15=1),1,"") | L15: 1360 | M15: MS53 | N15: 140 | O15: 142
A16: 1_1360_E07_028.fsa | B16: 1360 | C16: E245_MARM_170517 | D16: MS56 | E16: G | F16: 106 | G16: 108 | I16: =IF(F16=N16,"",1) | J16: =IF(G16=O16,"",1) | K16: =IF(OR(I16=1,J16=1),1,"") | L16: 1360 | M16: MS56 | N16: 106 | O16: 108
A17: 1_1360_E07_028.fsa | B17: 1360 | C17: E245_MARM_170517 | D17: MS6 | E17: G | F17: 158 | I17: =IF(F17=N17,"",1) | J17: =IF(G17=O17,"",1) | K17: =IF(OR(I17=1,J17=1),1,"") | L17: 1360 | M17: MS6 | N17: 158
A18: 2_1360_F07_028.fsa | B18: 1360 | C18: E245_MARM_170517 | D18: ST10 | E18: G | F18: 116 | G18: 118 | I18: =IF(F18=N18,"",1) | J18: =IF(G18=O18,"",1) | K18: =IF(OR(I18=1,J18=1),1,"") | L18: 1360 | M18: ST10 | N18: 116 | O18: 118
A19: 1_1373_K15_054.fsa | B19: 1373 | C19: E245_MARM_170517 | D19: Bibl1 | E19: B | F19: 95 | G19: 101 | I19: =IF(F19=N19,"",1) | J19: =IF(G19=O19,"",1) | K19: =IF(OR(I19=1,J19=1),1,"") | L19: 1373 | M19: Bibl1 | N19: 95 | O19: 101
A20: 2_1373_L15_054.fsa | B20: 1373 | C20: E245_MARM_170517 | D20: Bibl18 | E20: R | F20: 147 | G20: 149 | I20: =IF(F20=N20,"",1) | J20: =IF(G20=O20,"",1) | K20: =IF(OR(I20=1,J20=1),1,"") | L20: 1373 | M20: Bibl18 | N20: 147 | O20: 149
A21: 1_1373_K15_054.fsa | B21: 1373 | C21: E245_MARM_170517 | D21: Bibl20 | E21: G | F21: 216 | G21: 218 | I21: =IF(F21=N21,"",1) | J21: =IF(G21=O21,"",1) | K21: =IF(OR(I21=1,J21=1),1,"") | L21: 1373 | M21: Bibl20 | N21: 216 | O21: 218
A22: 2_1373_L15_054.fsa | B22: 1373 | C22: E245_MARM_170517 | D22: Bibl31 | E22: Y | F22: 157 | G22: 163 | I22: =IF(F22=N22,"",1) | J22: =IF(G22=O22,"",1) | K22: =IF(OR(I22=1,J22=1),1,"") | L22: 1373 | M22: Bibl31 | N22: 157 | O22: 163
A23: 1_1373_K15_054.fsa | B23: 1373 | C23: E245_MARM_170517 | D23: Bibl4 | E23: R | F23: 188 | G23: 190 | I23: =IF(F23=N23,"",1) -> 1 | J23: =IF(G23=O23,"",1) -> 1 | K23: =IF(OR(I23=1,J23=1),1,"") -> 1 | L23: 1373 | M23: Bibl4 | P23: =IF(AND(F23<>"", N23=""),1, "") -> 1 | Q23: =IF(AND(N23<>"", F23=""),1, "")
A24: 2_1373_L15_054.fsa | B24: 1373 | C24: E245_MARM_170517 | D24: Ma001 | E24: B | I24: =IF(F24=N24,"",1) | J24: =IF(G24=O24,"",1) | K24: =IF(OR(I24=1,J24=1),1,"") | L24: 1373 | M24: Ma001
A25: 2_1373_L15_054.fsa | B25: 1373 | C25: E245_MARM_170517 | D25: Ma002 | E25: Y | I25: =IF(F25=N25,"",1) -> 1 | J25: =IF(G25=O25,"",1) -> 1 | K25: =IF(OR(I25=1,J25=1),1,"") -> 1 | L25: 1373 | M25: Ma002 | N25: 271 | O25: 279 | P25: =IF(AND(F25<>"", N25=""),1, "") | Q25: =IF(AND(N25<>"", F25=""),1, "") -> 1
A26: 2_1373_L15_054.fsa | B26: 1373 | C26: E245_MARM_170517 | D26: Ma018 | E26: G | F26: 296 | G26: 298 | I26: =IF(F26=N26,"",1) | J26: =IF(G26=O26,"",1) | K26: =IF(OR(I26=1,J26=1),1,"") | L26: 1373 | M26: Ma018 | N26: 296 | O26: 298
A27: 2_1373_L15_054.fsa | B27: 1373 | C27: E245_MARM_170517 | D27: Ma066 | E27: B | F27: 231 | I27: =IF(F27=N27,"",1) | J27: =IF(G27=O27,"",1) | K27: =IF(OR(I27=1,J27=1),1,"") | L27: 1373 | M27: Ma066 | N27: 231
A28: 1_1373_K15_054.fsa | B28: 1373 | C28: E245_MARM_170517 | D28: Ma091 | E28: B | F28: 173 | G28: 175 | I28: =IF(F28=N28,"",1) | J28: =IF(G28=O28,"",1) | K28: =IF(OR(I28=1,J28=1),1,"") | L28: 1373 | M28: Ma091 | N28: 173 | O28: 175
A29: 2_1373_L15_054.fsa | B29: 1373 | C29: E245_MARM_170517 | D29: MS41 | E29: G | F29: 186 | I29: =IF(F29=N29,"",1) | J29: =IF(G29=O29,"",1) | K29: =IF(OR(I29=1,J29=1),1,"") | L29: 1373 | M29: MS41 | N29: 186
A30: 2_1373_L15_054.fsa | B30: 1373 | C30: E245_MARM_170517 | D30: MS45 | E30: B | F30: 107 | G30: 109 | I30: =IF(F30=N30,"",1) | J30: =IF(G30=O30,"",1) | K30: =IF(OR(I30=1,J30=1),1,"") | L30: 1373 | M30: MS45 | N30: 107 | O30: 109
A31: 1_1373_K15_054.fsa | B31: 1373 | C31: E245_MARM_170517 | D31: MS47 | E31: Y | F31: 180 | I31: =IF(F31=N31,"",1) | J31: =IF(G31=O31,"",1) | K31: =IF(OR(I31=1,J31=1),1,"") | L31: 1373 | M31: MS47 | N31: 180
A32: 1_1373_K15_054.fsa | B32: 1373 | C32: E245_MARM_170517 | D32: MS53 | E32: Y | F32: 142 | I32: =IF(F32=N32,"",1) | J32: =IF(G32=O32,"",1) | K32: =IF(OR(I32=1,J32=1),1,"") | L32: 1373 | M32: MS53 | N32: 142
A33: 1_1373_K15_054.fsa | B33: 1373 | C33: E245_MARM_170517 | D33: MS56 | E33: G | F33: 106 | I33: =IF(F33=N33,"",1) | J33: =IF(G33=O33,"",1) | K33: =IF(OR(I33=1,J33=1),1,"") | L33: 1373 | M33: MS56 | N33: 106
A34: 1_1373_K15_054.fsa | B34: 1373 | C34: E245_MARM_170517 | D34: MS6 | E34: G | F34: 158 | I34: =IF(F34=N34,"",1) | J34: =IF(G34=O34,"",1) | K34: =IF(OR(I34=1,J34=1),1,"") | L34: 1373 | M34: MS6 | N34: 158
A35: 2_1373_L15_054.fsa | B35: 1373 | C35: E245_MARM_170517 | D35: ST10 | E35: G | F35: 116 | G35: 118 | I35: =IF(F35=N35,"",1) | J35: =IF(G35=O35,"",1) | K35: =IF(OR(I35=1,J35=1),1,"") | L35: 1373 | M35: ST10 | N35: 116 | O35: 118
A36: 1_1417_A13_063.fsa | B36: 1417 | C36: E245_MARM_170517 | D36: Bibl1 | E36: B | F36: 101 | G36: 103 | I36: =IF(F36=N36,"",1) | J36: =IF(G36=O36,"",1) | K36: =IF(OR(I36=1,J36=1),1,"") | L36: 1417 | M36: Bibl1 | N36: 101 | O36: 103
A37: 2_1417_B13_063.fsa | B37: 1417 | C37: E245_MARM_170517 | D37: Bibl18 | E37: R | F37: 143 | G37: 145 | I37: =IF(F37=N37,"",1) | J37: =IF(G37=O37,"",1) | K37: =IF(OR(I37=1,J37=1),1,"") | L37: 1417 | M37: Bibl18 | N37: 143 | O37: 145
A38: 1_1417_A13_063.fsa | B38: 1417 | C38: E245_MARM_170517 | D38: Bibl20 | E38: G | F38: 208 | I38: =IF(F38=N38,"",1) | J38: =IF(G38=O38,"",1) | K38: =IF(OR(I38=1,J38=1),1,"") | L38: 1417 | M38: Bibl20 | N38: 208
A39: 2_1417_B13_063.fsa | B39: 1417 | C39: E245_MARM_170517 | D39: Bibl31 | E39: Y | F39: 157 | G39: 161 | I39: =IF(F39=N39,"",1) | J39: =IF(G39=O39,"",1) | K39: =IF(OR(I39=1,J39=1),1,"") | L39: 1417 | M39: Bibl31 | N39: 157 | O39: 161
A40: 1_1417_A13_063.fsa | B40: 1417 | C40: E245_MARM_170517 | D40: Bibl4 | E40: R | I40: =IF(F40=N40,"",1) | J40: =IF(G40=O40,"",1) | K40: =IF(OR(I40=1,J40=1),1,"") | L40: 1417 | M40: Bibl4
...

Sheet TAB_BILAN_essai2
A3: Nombre de erreur | B3: Étiquettes de colonnes
A4: Étiquettes de lignes | B4: 1 | D4: (vide) | E4: Total général | G4: Marqueur | H4: nb erreur | I4: nb correct | J4: Y
A5: Bibl1 | C5: 96 | E5: 96 | G5: Bibl4 | H5: 30 | I5: 66 | J5: =H5/SUM(H5:I5) -> 0.3125
A6: Bibl18 | B6: 4 | C6: 92 | E6: 96 | G6: MS45 | H6: 13 | I6: 83 | J6: =H6/SUM(H6:I6) -> 0.13541667
A7: Bibl20 | B7: 1 | C7: 95 | E7: 96 | G7: ST10 | H7: 12 | I7: 84 | J7: =H7/SUM(H7:I7) -> 0.125
A8: Bibl31 | B8: 2 | C8: 94 | E8: 96 | G8: MS6 | H8: 7 | I8: 89 | J8: =H8/SUM(H8:I8) -> 0.072916667
A9: Bibl4 | B9: 30 | C9: 66 | E9: 96 | G9: Bibl18 | H9: 4 | I9: 92 | J9: =H9/SUM(H9:I9) -> 0.041666667
A10: Ma001 | C10: 96 | E10: 96 | G10: Ma066 | H10: 4 | I10: 92 | J10: =H10/SUM(H10:I10) -> 0.041666667
A11: Ma002 | B11: 2 | C11: 94 | E11: 96 | G11: MS47 | H11: 4 | I11: 92 | J11: =H11/SUM(H11:I11) -> 0.041666667
A12: Ma018 | B12: 3 | C12: 93 | E12: 96 | G12: Ma018 | H12: 3 | I12: 93 | J12: =H12/SUM(H12:I12) -> 0.03125
A13: Ma066 | B13: 4 | C13: 92 | E13: 96 | G13: MS53 | H13: 3 | I13: 93 | J13: =H13/SUM(H13:I13) -> 0.03125
A14: Ma091 | C14: 96 | E14: 96 | G14: Bibl31 | H14: 2 | I14: 94 | J14: =H14/SUM(H14:I14) -> 0.020833333
A15: MS41 | B15: 1 | C15: 95 | E15: 96 | G15: Ma002 | H15: 2 | I15: 94 | J15: =H15/SUM(H15:I15) -> 0.020833333
A16: MS45 | B16: 13 | C16: 83 | E16: 96 | G16: Bibl20 | H16: 1 | I16: 95 | J16: =H16/SUM(H16:I16) -> 0.010416667
A17: MS47 | B17: 4 | C17: 92 | E17: 96 | G17: MS41 | H17: 1 | I17: 95 | J17: =H17/SUM(H17:I17) -> 0.010416667
A18: MS53 | B18: 3 | C18: 93 | E18: 96 | G18: MS56 | H18: 1 | I18: 95 | J18: =H18/SUM(H18:I18) -> 0.010416667
A19: MS56 | B19: 1 | C19: 95 | E19: 96 | G19: Bibl1 | H19: 0 | I19: 96 | J19: =H19/SUM(H19:I19) -> 0
A20: MS6 | B20: 7 | C20: 89 | E20: 96 | G20: Ma001 | H20: 0 | I20: 96 | J20: =H20/SUM(H20:I20) -> 0
A21: ST10 | B21: 12 | C21: 84 | E21: 96 | G21: Ma091 | H21: 0 | I21: 96 | J21: =H21/SUM(H21:I21) -> 0
A22: (vide)
A23: Total général | B23: 87 | C23: 1545 | E23: 1632
