Workbook
Name Marmot_07_Genotypes_Table_mix2v2: Tous!$B$1:$I$967

Sheet Tous
A1: Mix | B1: Individu | C1: Marqueur | D1: Allèle 1 | E1: Allèle 2 | F1: Taille 1 (en pb) | G1: Taille 2 (en pb) | H1: Hauteur pic 1 | I1: Hauteur pic 2
A2: =VLOOKUP(Tous!C2,#REF!,2,FALSE) -> #REF! | B2: 1360 | C2: Bibl1 | D2: 97 | E2: 107 | F2: 98.87 | G2: 108.16 | H2: 8785 | I2: 5704
A3: =VLOOKUP(Tous!C3,#REF!,2,FALSE) -> #REF! | B3: 1360 | C3: Bibl18 | D3: 145 | E3: 147 | F3: 145.62 | G3: 147.73 | H3: 2487 | I3: 1611
A4: =VLOOKUP(Tous!C4,#REF!,2,FALSE) -> #REF! | B4: 1360 | C4: Bibl20 | D4: 208 | E4: 216 | F4: 207.26 | G4: 215.42 | H4: 7420 | I4: 4567
A5: =VLOOKUP(Tous!C5,#REF!,2,FALSE) -> #REF! | B5: 1360 | C5: Bibl31 | D5: 157 | E5: 163 | F5: 157.71 | G5: 163.4 | H5: 17048 | I5: 12491
A6: =VLOOKUP(Tous!C6,#REF!,2,FALSE) -> #REF! | B6: 1360 | C6: Bibl4 | D6: 190 | E6: 192 | F6: 191.25 | G6: 193.22 | H6: 1812 | I6: 1096
A7: =VLOOKUP(Tous!C7,#REF!,2,FALSE) -> #REF! | B7: 1360 | C7: Ma001 | D7: 305 | E7: 307 | F7: 306.14 | G7: 308.15 | H7: 2331 | I7: 1420
A8: =VLOOKUP(Tous!C8,#REF!,2,FALSE) -> #REF! | B8: 1360 | C8: Ma002 | D8: 279 | E8: 281 | F8: 280.65 | G8: 282.56 | H8: 3952 | I8: 2078
A9: =VLOOKUP(Tous!C9,#REF!,2,FALSE) -> #REF! | B9: 1360 | C9: Ma018 | D9: 298 | F9: 296.77 | H9: 479
A10: =VLOOKUP(Tous!C10,#REF!,2,FALSE) -> #REF! | B10: 1360 | C10: Ma066 | D10: 231 | F10: 234.2 | H10: 439
A11: =VLOOKUP(Tous!C11,#REF!,2,FALSE) -> #REF! | B11: 1360 | C11: Ma091 | D11: 173 | E11: 175 | F11: 173.54 | G11: 175.51 | H11: 10140 | I11: 6435
A12: =VLOOKUP(Tous!C12,#REF!,2,FALSE) -> #REF! | B12: 1360 | C12: MS41 | D12: 184 | E12: 186 | F12: 185.02 | G12: 187.03 | H12: 3588 | I12: 2753
A13: =VLOOKUP(Tous!C13,#REF!,2,FALSE) -> #REF! | B13: 1360 | C13: MS45 | D13: 107 | F13: 107.69 | H13: 26601
A14: =VLOOKUP(Tous!C14,#REF!,2,FALSE) -> #REF! | B14: 1360 | C14: MS47 | D14: 184 | E14: 186 | F14: 184.75 | G14: 186.72 | H14: 7050 | I14: 4379
A15: =VLOOKUP(Tous!C15,#REF!,2,FALSE) -> #REF! | B15: 1360 | C15: MS53 | D15: 140 | E15: 142 | F15: 141.12 | G15: 143.41 | H15: 19148 | I15: 12818
A16: =VLOOKUP(Tous!C16,#REF!,2,FALSE) -> #REF! | B16: 1360 | C16: MS56 | D16: 106 | E16: 108 | F16: 107.4 | G16: 109.22 | H16: 14562 | I16: 11281
A17: =VLOOKUP(Tous!C17,#REF!,2,FALSE) -> #REF! | B17: 1360 | C17: MS6 | D17: 158 | F17: 158.32 | H17: 24372
A18: =VLOOKUP(Tous!C18,#REF!,2,FALSE) -> #REF! | B18: 1360 | C18: ST10 | D18: 116 | E18: 118 | F18: 117.06 | G18: 118.96 | H18: 4666 | I18: 3779
A19: =VLOOKUP(Tous!C19,#REF!,2,FALSE) -> #REF! | B19: 1373 | C19: Bibl1 | D19: 95 | E19: 101 | F19: 96.77 | G19: 102.46 | H19: 7807 | I19: 5098
A20: =VLOOKUP(Tous!C20,#REF!,2,FALSE) -> #REF! | B20: 1373 | C20: Bibl18 | D20: 147 | E20: 149 | F20: 147.55 | G20: 149.65 | H20: 4344 | I20: 2658
A21: =VLOOKUP(Tous!C21,#REF!,2,FALSE) -> #REF! | B21: 1373 | C21: Bibl20 | D21: 216 | E21: 218 | F21: 215.35 | G21: 217.4 | H21: 5679 | I21: 3625
A22: =VLOOKUP(Tous!C22,#REF!,2,FALSE) -> #REF! | B22: 1373 | C22: Bibl31 | D22: 157 | E22: 163 | F22: 157.51 | G22: 163.3 | H22: 22465 | I22: 14591
A23: =VLOOKUP(Tous!C23,#REF!,2,FALSE) -> #REF! | B23: 1373 | C23: Bibl4
A24: =VLOOKUP(Tous!C24,#REF!,2,FALSE) -> #REF! | B24: 1373 | C24: Ma001
A25: =VLOOKUP(Tous!C25,#REF!,2,FALSE) -> #REF! | B25: 1373 | C25: Ma002 | D25: 271 | E25: 279 | F25: 273.65 | G25: 280.38 | H25: 183 | I25: 183
A26: =VLOOKUP(Tous!C26,#REF!,2,FALSE) -> #REF! | B26: 1373 | C26: Ma018 | D26: 296 | E26: 298 | F26: 294.76 | G26: 296.55 | H26: 1724 | I26: 1401
A27: =VLOOKUP(Tous!C27,#REF!,2,FALSE) -> #REF! | B27: 1373 | C27: Ma066 | D27: 231 | F27: 233.94 | H27: 1339
A28: =VLOOKUP(Tous!C28,#REF!,2,FALSE) -> #REF! | B28: 1373 | C28: Ma091 | D28: 173 | E28: 175 | F28: 173.63 | G28: 175.46 | H28: 6816 | I28: 4576
A29: =VLOOKUP(Tous!C29,#REF!,2,FALSE) -> #REF! | B29: 1373 | C29: MS41 | D29: 186 | F29: 186.92 | H29: 8563
A30: =VLOOKUP(Tous!C30,#REF!,2,FALSE) -> #REF! | B30: 1373 | C30: MS45 | D30: 107 | E30: 109 | F30: 107.7 | G30: 109.76 | H30: 25082 | I30: 18105
A31: =VLOOKUP(Tous!C31,#REF!,2,FALSE) -> #REF! | B31: 1373 | C31: MS47 | D31: 180 | F31: 180.94 | H31: 5292
A32: =VLOOKUP(Tous!C32,#REF!,2,FALSE) -> #REF! | B32: 1373 | C32: MS53 | D32: 142 | F32: 143.33 | H32: 15806
A33: =VLOOKUP(Tous!C33,#REF!,2,FALSE) -> #REF! | B33: 1373 | C33: MS56 | D33: 106 | F33: 107.25 | H33: 14910
A34: =VLOOKUP(Tous!C34,#REF!,2,FALSE) -> #REF! | B34: 1373 | C34: MS6 | D34: 158 | F34: 158.29 | H34: 14768
A35: =VLOOKUP(Tous!C35,#REF!,2,FALSE) -> #REF! | B35: 1373 | C35: ST10 | D35: 116 | E35: 118 | F35: 117.1 | G35: 119.03 | H35: 4866 | I35: 3895
A36: =VLOOKUP(Tous!C36,#REF!,2,FALSE) -> #REF! | B36: 1417 | C36: Bibl1 | D36: 101 | E36: 103 | F36: 102.68 | G36: 104.47 | H36: 6709 | I36: 4391
A37: =VLOOKUP(Tous!C37,#REF!,2,FALSE) -> #REF! | B37: 1417 | C37: Bibl18 | D37: 143 | E37: 145 | F37: 143.51 | G37: 145.57 | H37: 5929 | I37: 3710
A38: =VLOOKUP(Tous!C38,#REF!,2,FALSE) -> #REF! | B38: 1417 | C38: Bibl20 | D38: 208 | F38: 207.33 | H38: 6785
A39: =VLOOKUP(Tous!C39,#REF!,2,FALSE) -> #REF! | B39: 1417 | C39: Bibl31 | D39: 157 | E39: 161 | F39: 157.7 | G39: 161.54 | H39: 13562 | I39: 13937
A40: =VLOOKUP(Tous!C40,#REF!,2,FALSE) -> #REF! | B40: 1417 | C40: Bibl4
A41: =VLOOKUP(Tous!C41,#REF!,2,FALSE) -> #REF! | B41: 1417 | C41: Ma001 | D41: 305 | F41: 306.08 | H41: 1582
A42: =VLOOKUP(Tous!C42,#REF!,2,FALSE) -> #REF! | B42: 1417 | C42: Ma002 | D42: 271 | E42: 283 | F42: 274.07 | G42: 284.5 | H42: 2582 | I42: 2287
A43: =VLOOKUP(Tous!C43,#REF!,2,FALSE) -> #REF! | B43: 1417 | C43: Ma018 | D43: 298 | F43: 296.81 | H43: 13051
A44: =VLOOKUP(Tous!C44,#REF!,2,FALSE) -> #REF! | B44: 1417 | C44: Ma066 | D44: 231 | E44: 241 | F44: 234.36 | G44: 244.13 | H44: 2329 | I44: 1339
A45: =VLOOKUP(Tous!C45,#REF!,2,FALSE) -> #REF! | B45: 1417 | C45: Ma091 | D45: 173 | E45: 175 | F45: 173.53 | G45: 175.48 | H45: 5515 | I45: 3570
A46: =VLOOKUP(Tous!C46,#REF!,2,FALSE) -> #REF! | B46: 1417 | C46: MS41 | D46: 184 | E46: 186 | F46: 185.17 | G46: 187.16 | H46: 5097 | I46: 4335
A47: =VLOOKUP(Tous!C47,#REF!,2,FALSE) -> #REF! | B47: 1417 | C47: MS45 | D47: 109 | E47: 111 | F47: 109.7 | G47: 111.87 | H47: 17814 | I47: 11538
A48: =VLOOKUP(Tous!C48,#REF!,2,FALSE) -> #REF! | B48: 1417 | C48: MS47 | D48: 176 | E48: 184 | F48: 177.12 | G48: 184.76 | H48: 3104 | I48: 2003
A49: =VLOOKUP(Tous!C49,#REF!,2,FALSE) -> #REF! | B49: 1417 | C49: MS53 | D49: 140 | E49: 142 | F49: 141.26 | G49: 143.34 | H49: 11716 | I49: 8457
A50: =VLOOKUP(Tous!C50,#REF!,2,FALSE) -> #REF! | B50: 1417 | C50: MS56 | D50: 108 | F50: 109.27 | H50: 15113
A51: =VLOOKUP(Tous!C51,#REF!,2,FALSE) -> #REF! | B51: 1417 | C51: MS6 | D51: 158 | F51: 158.35 | H51: 15834
A52: =VLOOKUP(Tous!C52,#REF!,2,FALSE) -> #REF! | B52: 1417 | C52: ST10 | D52: 130 | E52: 136 | F52: 130.79 | G52: 136.74 | H52: 2697 | I52: 1899
A53: =VLOOKUP(Tous!C53,#REF!,2,FALSE) -> #REF! | B53: 1499 | C53: Bibl1 | D53: 97 | E53: 107 | F53: 99.07 | G53: 108.37 | H53: 6454 | I53: 3605
A54: =VLOOKUP(Tous!C54,#REF!,2,FALSE) -> #REF! | B54: 1499 | C54: Bibl18 | D54: 145 | F54: 145.7 | H54: 9087
A55: =VLOOKUP(Tous!C55,#REF!,2,FALSE) -> #REF! | B55: 1499 | C55: Bibl20 | D55: 206 | E55: 208 | F55: 205.29 | G55: 207.4 | H55: 7359 | I55: 4940
A56: =VLOOKUP(Tous!C56,#REF!,2,FALSE) -> #REF! | B56: 1499 | C56: Bibl31 | D56: 157 | E56: 161 | F56: 157.77 | G56: 161.77 | H56: 20655 | I56: 20802
A57: =VLOOKUP(Tous!C57,#REF!,2,FALSE) -> #REF! | B57: 1499 | C57: Bibl4 | D57: 190 | F57: 191.31 | H57: 5967
A58: =VLOOKUP(Tous!C58,#REF!,2,FALSE) -> #REF! | B58: 1499 | C58: Ma001 | D58: 305 | F58: 306.12 | H58: 3248
A59: =VLOOKUP(Tous!C59,#REF!,2,FALSE) -> #REF! | B59: 1499 | C59: Ma002 | D59: 279 | E59: 283 | F59: 280.89 | G59: 284.6 | H59: 5433 | I59: 4666
A60: =VLOOKUP(Tous!C60,#REF!,2,FALSE) -> #REF! | B60: 1499 | C60: Ma018 | D60: 296 | E60: 298 | F60: 295.05 | G60: 296.84 | H60: 9752 | I60: 7322
A61: =VLOOKUP(Tous!C61,#REF!,2,FALSE) -> #REF! | B61: 1499 | C61: Ma066 | D61: 231 | E61: 241 | F61: 234.44 | G61: 244.48 | H61: 3443 | I61: 2142
A62: =VLOOKUP(Tous!C62,#REF!,2,FALSE) -> #REF! | B62: 1499 | C62: Ma091 | D62: 173 | E62: 179 | F62: 173.69 | G62: 179.43 | H62: 4624 | I62: 3269
A63: =VLOOKUP(Tous!C63,#REF!,2,FALSE) -> #REF! | B63: 1499 | C63: MS41 | D63: 184 | E63: 186 | F63: 185.26 | G63: 187.31 | H63: 6114 | I63: 5026
A64: =VLOOKUP(Tous!C64,#REF!,2,FALSE) -> #REF! | B64: 1499 | C64: MS45 | D64: 109 | E64: 111 | F64: 110.06 | G64: 112.0 | H64: 18721 | I64: 13292
A65: =VLOOKUP(Tous!C65,#REF!,2,FALSE) -> #REF! | B65: 1499 | C65: MS47 | D65: 184 | E65: 186 | F65: 184.88 | G65: 186.73 | H65: 7672 | I65: 4906
A66: =VLOOKUP(Tous!C66,#REF!,2,FALSE) -> #REF! | B66: 1499 | C66: MS53 | D66: 142 | E66: 144 | F66: 143.47 | G66: 145.77 | H66: 20955 | I66: 14810
A67: =VLOOKUP(Tous!C67,#REF!,2,FALSE) -> #REF! | B67: 1499 | C67: MS56 | D67: 104 | E67: 106 | F67: 105.76 | G67: 107.65 | H67: 17173 | I67: 13305
A68: =VLOOKUP(Tous!C68,#REF!,2,FALSE) -> #REF! | B68: 1499 | C68: MS6 | D68: 158 | F68: 158.54 | H68: 23772
A69: =VLOOKUP(Tous!C69,#REF!,2,FALSE) -> #REF! | B69: 1499 | C69: ST10 | D69: 132 | E69: 136 | F69: 132.79 | G69: 136.82 | H69: 3686 | I69: 2538
A70: =VLOOKUP(Tous!C70,#REF!,2,FALSE) -> #REF! | B70: 1598 | C70: Bibl1
A71: =VLOOKUP(Tous!C71,#REF!,2,FALSE) -> #REF! | B71: 1598 | C71: Bibl18 | D71: 143 | E71: 147 | F71: 143.42 | G71: 147.76 | H71: 3207 | I71: 2280
A72: =VLOOKUP(Tous!C72,#REF!,2,FALSE) -> #REF! | B72: 1598 | C72: Bibl20
A73: =VLOOKUP(Tous!C73,#REF!,2,FALSE) -> #REF! | B73: 1598 | C73: Bibl31 | D73: 157 | E73: 159 | F73: 157.75 | G73: 159.7 | H73: 18781 | I73: 12877
A74: =VLOOKUP(Tous!C74,#REF!,2,FALSE) -> #REF! | B74: 1598 | C74: Bibl4
A75: =VLOOKUP(Tous!C75,#REF!,2,FALSE) -> #REF! | B75: 1598 | C75: Ma001 | D75: 305 | F75: 306.2 | H75: 1057
A76: =VLOOKUP(Tous!C76,#REF!,2,FALSE) -> #REF! | B76: 1598 | C76: Ma002 | D76: 279 | E76: 281 | F76: 280.67 | G76: 282.38 | H76: 3907 | I76: 2428
A77: =VLOOKUP(Tous!C77,#REF!,2,FALSE) -> #REF! | B77: 1598 | C77: Ma018 | D77: 298 | F77: 296.85 | H77: 12599
A78: =VLOOKUP(Tous!C78,#REF!,2,FALSE) -> #REF! | B78: 1598 | C78: Ma066 | D78: 231 | E78: 241 | F78: 234.35 | G78: 244.18 | H78: 3737 | I78: 2352
A79: =VLOOKUP(Tous!C79,#REF!,2,FALSE) -> #REF! | B79: 1598 | C79: Ma091
A80: =VLOOKUP(Tous!C80,#REF!,2,FALSE) -> #REF! | B80: 1598 | C80: MS41 | D80: 186 | F80: 187.13 | H80: 7350
A81: =VLOOKUP(Tous!C81,#REF!,2,FALSE) -> #REF! | B81: 1598 | C81: MS45 | D81: 107 | E81: 109 | F81: 107.68 | G81: 109.5 | H81: 14680 | I81: 12920
A82: =VLOOKUP(Tous!C82,#REF!,2,FALSE) -> #REF! | B82: 1598 | C82: MS47
A83: =VLOOKUP(Tous!C83,#REF!,2,FALSE) -> #REF! | B83: 1598 | C83: MS53
A84: =VLOOKUP(Tous!C84,#REF!,2,FALSE) -> #REF! | B84: 1598 | C84: MS56 | D84: 106 | E84: 108 | F84: 107.46 | G84: 109.38 | H84: 181 | I84: 104
A85: =VLOOKUP(Tous!C85,#REF!,2,FALSE) -> #REF! | B85: 1598 | C85: MS6
A86: =VLOOKUP(Tous!C86,#REF!,2,FALSE) -> #REF! | B86: 1598 | C86: ST10 | D86: 116 | E86: 120 | F86: 117.01 | G86: 120.89 | H86: 5383 | I86: 3581
A87: =VLOOKUP(Tous!C87,#REF!,2,FALSE) -> #REF! | B87: 1606 | C87: Bibl1 | D87: 101 | F87: 102.8 | H87: 10363
A88: =VLOOKUP(Tous!C88,#REF!,2,FALSE) -> #REF! | B88: 1606 | C88: Bibl18 | D88: 143 | E88: 147 | F88: 143.52 | G88: 147.8 | H88: 4194 | I88: 2828
A89: =VLOOKUP(Tous!C89,#REF!,2,FALSE) -> #REF! | B89: 1606 | C89: Bibl20 | D89: 208 | F89: 207.4 | H89: 10930
A90: =VLOOKUP(Tous!C90,#REF!,2,FALSE) -> #REF! | B90: 1606 | C90: Bibl31 | D90: 157 | E90: 159 | F90: 157.93 | G90: 159.71 | H90: 3623 | I90: 2671
A91: =VLOOKUP(Tous!C91,#REF!,2,FALSE) -> #REF! | B91: 1606 | C91: Bibl4 | D91: 190 | F91: 191.43 | H91: 2171
A92: =VLOOKUP(Tous!C92,#REF!,2,FALSE) -> #REF! | B92: 1606 | C92: Ma001 | D92: 305 | F92: 306.25 | H92: 256
A93: =VLOOKUP(Tous!C93,#REF!,2,FALSE) -> #REF! | B93: 1606 | C93: Ma002
A94: =VLOOKUP(Tous!C94,#REF!,2,FALSE) -> #REF! | B94: 1606 | C94: Ma018 | D94: 298 | F94: 296.92 | H94: 16600
A95: =VLOOKUP(Tous!C95,#REF!,2,FALSE) -> #REF! | B95: 1606 | C95: Ma066 | D95: 231 | E95: 241 | F95: 234.56 | G95: 244.41 | H95: 4085 | I95: 2350
A96: =VLOOKUP(Tous!C96,#REF!,2,FALSE) -> #REF! | B96: 1606 | C96: Ma091 | D96: 175 | E96: 179 | F96: 175.64 | G96: 179.45 | H96: 4652 | I96: 2999
A97: =VLOOKUP(Tous!C97,#REF!,2,FALSE) -> #REF! | B97: 1606 | C97: MS41 | D97: 184 | E97: 186 | F97: 185.23 | G97: 187.32 | H97: 5041 | I97: 4015
A98: =VLOOKUP(Tous!C98,#REF!,2,FALSE) -> #REF! | B98: 1606 | C98: MS45 | D98: 109 | E98: 113 | F98: 109.82 | G98: 113.28 | H98: 4227 | I98: 1049
A99: =VLOOKUP(Tous!C99,#REF!,2,FALSE) -> #REF! | B99: 1606 | C99: MS47 | D99: 184 | E99: 186 | F99: 184.87 | G99: 186.77 | H99: 5113 | I99: 3045
A100: =VLOOKUP(Tous!C100,#REF!,2,FALSE) -> #REF! | B100: 1606 | C100: MS53 | D100: 140 | E100: 142 | F100: 141.35 | G100: 143.86 | H100: 21883 | I100: 4129
...

Sheet comparaison_essai_1
A1: SampleFile | B1: SampleName | C1: RunName | D1: marker | E1: Dye | F1: Allele 1 | G1: Alle 2 | H1: Allele3 | I1: Alle_1_bool | J1: Allele2_bool | K1: erreur | L1: Individu | M1: Marqueur | N1: Allèle 1 | O1: Allèle 2
A2: 1_1360_E07_028.fsa | B2: 1360 | C2: E245_MARM_170517 | D2: Bibl1 | E2: B | F2: 97 | G2: 107 | I2: =IF(F2=N2,"",1) | J2: =IF(G2=O2,"",1) | K2: =IF(OR(I2=1,J2=1),1,"") | L2: 1360 | M2: Bibl1 | N2: 97 | O2: 107
A3: 2_1360_F07_028.fsa | B3: 1360 | C3: E245_MARM_170517 | D3: Bibl18 | E3: R | F3: 145 | G3: 147 | I3: =IF(F3=N3,"",1) | J3: =IF(G3=O3,"",1) | K3: =IF(OR(I3=1,J3=1),1,"") | L3: 1360 | M3: Bibl18 | N3: 145 | O3: 147
A4: 1_1360_E07_028.fsa | B4: 1360 | C4: E245_MARM_170517 | D4: Bibl20 | E4: G | F4: 208 | G4: 216 | I4: =IF(F4=N4,"",1) | J4: =IF(G4=O4,"",1) | K4: =IF(OR(I4=1,J4=1),1,"") | L4: 1360 | M4: Bibl20 | N4: 208 | O4: 216
A5: 2_1360_F07_028.fsa | B5: 1360 | C5: E245_MARM_170517 | D5: Bibl31 | E5: Y | F5: 157 | G5: 163 | I5: =IF(F5=N5,"",1) | J5: =IF(G5=O5,"",1) | K5: =IF(OR(I5=1,J5=1),1,"") | L5: 1360 | M5: Bibl31 | N5: 157 | O5: 163
A6: 1_1360_E07_028.fsa | B6: 1360 | C6: E245_MARM_170517 | D6: Bibl4 | E6: R | F6: 190 | G6: 192 | I6: =IF(F6=N6,"",1) | J6: =IF(G6=O6,"",1) | K6: =IF(OR(I6=1,J6=1),1,"") | L6: 1360 | M6: Bibl4 | N6: 190 | O6: 192
A7: 2_1360_F07_028.fsa | B7: 1360 | C7: E245_MARM_170517 | D7: Ma001 | E7: B | F7: 305 | G7: 307 | I7: =IF(F7=N7,"",1) | J7: =IF(G7=O7,"",1) | K7: =IF(OR(I7=1,J7=1),1,"") | L7: 1360 | M7: Ma001 | N7: 305 | O7: 307
A8: 2_1360_F07_028.fsa | B8: 1360 | C8: E245_MARM_170517 | D8: Ma002 | E8: Y | F8: 279 | G8: 281 | I8: =IF(F8=N8,"",1) | J8: =IF(G8=O8,"",1) | K8: =IF(OR(I8=1,J8=1),1,"") | L8: 1360 | M8: Ma002 | N8: 279 | O8: 281
A9: 2_1360_F07_028.fsa | B9: 1360 | C9: E245_MARM_170517 | D9: Ma018 | E9: G | F9: 298 | I9: =IF(F9=N9,"",1) | J9: =IF(G9=O9,"",1) | K9: =IF(OR(I9=1,J9=1),1,"") | L9: 1360 | M9: Ma018 | N9: 298
A10: 2_1360_F07_028.fsa | B10: 1360 | C10: E245_MARM_170517 | D10: Ma066 | E10: B | F10: 231 | I10: =IF(F10=N10,"",1) | J10: =IF(G10=O10,"",1) | K10: =IF(OR(I10=1,J10=1),1,"") | L10: 1360 | M10: Ma066 | N10: 231
A11: 1_1360_E07_028.fsa | B11: 1360 | C11: E245_MARM_170517 | D11: Ma091 | E11: B | F11: 173 | G11: 175 | I11: =IF(F11=N11,"",1) | J11: =IF(G11=O11,"",1) | K11: =IF(OR(I11=1,J11=1),1,"") | L11: 1360 | M11: Ma091 | N11: 173 | O11: 175
A12: 2_1360_F07_028.fsa | B12: 1360 | C12: E245_MARM_170517 | D12: MS41 | E12: G | F12: 184 | G12: 186 | I12: =IF(F12=N12,"",1) | J12: =IF(G12=O12,"",1) | K12: =IF(OR(I12=1,J12=1),1,"") | L12: 1360 | M12: MS41 | N12: 184 | O12: 186
A13: 2_1360_F07_028.fsa | B13: 1360 | C13: E245_MARM_170517 | D13: MS45 | E13: B | F13: 107 | I13: =IF(F13=N13,"",1) | J13: =IF(G13=O13,"",1) | K13: =IF(OR(I13=1,J13=1),1,"") | L13: 1360 | M13: MS45 | N13: 107
A14: 1_1360_E07_028.fsa | B14: 1360 | C14: E245_MARM_170517 | D14: MS47 | E14: Y | F14: 184 | G14: 186 | I14: =IF(F14=N14,"",1) | J14: =IF(G14=O14,"",1) | K14: =IF(OR(I14=1,J14=1),1,"") | L14: 1360 | M14: MS47 | N14: 184 | O14: 186
A15: 1_1360_E07_028.fsa | B15: 1360 | C15: E245_MARM_170517 | D15: MS53 | E15: Y | F15: 140 | G15: 142 | I15: =IF(F15=N15,"",1) | J15: =IF(G15=O15,"",1) | K15: =IF(OR(I15=1,J15=1),1,"") | L15: 1360 | M15: MS53 | N15: 140 | O15: 142
A16: 1_1360_E07_028.fsa | B16: 1360 | C16: E245_MARM_170517 | D16: MS56 | E16: G | F16: 108 | G16: 108 | I16: =IF(F16=N16,"",1) -> 1 | J16: =IF(G16=O16,"",1) | K16: =IF(OR(I16=1,J16=1),1,"") -> 1 | L16: 1360 | M16: MS56 | N16: 106 | O16: 108
A17: 1_1360_E07_028.fsa | B17: 1360 | C17: E245_MARM_170517 | D17: MS6 | E17: G | F17: 158 | I17: =IF(F17=N17,"",1) | J17: =IF(G17=O17,"",1) | K17: =IF(OR(I17=1,J17=1),1,"") | L17: 1360 | M17: MS6 | N17: 158
A18: 2_1360_F07_028.fsa | B18: 1360 | C18: E245_MARM_170517 | D18: ST10 | E18: G | F18: 116 | G18: 118 | I18: =IF(F18=N18,"",1) | J18: =IF(G18=O18,"",1) | K18: =IF(OR(I18=1,J18=1),1,"") | L18: 1360 | M18: ST10 | N18: 116 | O18: 118
A19: 1_1373_K15_054.fsa | B19: 1373 | C19: E245_MARM_170517 | D19: Bibl1 | E19: B | F19: 95 | G19: 101 | I19: =IF(F19=N19,"",1) | J19: =IF(G19=O19,"",1) | K19: =IF(OR(I19=1,J19=1),1,"") | L19: 1373 | M19: Bibl1 | N19: 95 | O19: 101
A20: 2_1373_L15_054.fsa | B20: 1373 | C20: E245_MARM_170517 | D20: Bibl18 | E20: R | F20: 147 | G20: 149 | I20: =IF(F20=N20,"",1) | J20: =IF(G20=O20,"",1) | K20: =IF(OR(I20=1,J20=1),1,"") | L20: 1373 | M20: Bibl18 | N20: 147 | O20: 149
A21: 1_1373_K15_054.fsa | B21: 1373 | C21: E245_MARM_170517 | D21: Bibl20 | E21: G | F21: 216 | G21: 218 | I21: =IF(F21=N21,"",1) | J21: =IF(G21=O21,"",1) | K21: =IF(OR(I21=1,J21=1),1,"") | L21: 1373 | M21: Bibl20 | N21: 216 | O21: 218
A22: 2_1373_L15_054.fsa | B22: 1373 | C22: E245_MARM_170517 | D22: Bibl31 | E22: Y | F22: 157 | G22: 163 | I22: =IF(F22=N22,"",1) | J22: =IF(G22=O22,"",1) | K22: =IF(OR(I22=1,J22=1),1,"") | L22: 1373 | M22: Bibl31 | N22: 157 | O22: 163
A23: 1_1373_K15_054.fsa | B23: 1373 | C23: E245_MARM_170517 | D23: Bibl4 | E23: R | F23: 188 | G23: 190 | I23: =IF(F23=N23,"",1) -> 1 | J23: =IF(G23=O23,"",1) -> 1 | K23: =IF(OR(I23=1,J23=1),1,"") -> 1 | L23: 1373 | M23: Bibl4
A24: 2_1373_L15_054.fsa | B24: 1373 | C24: E245_MARM_170517 | D24: Ma001 | E24: B | I24: =IF(F24=N24,"",1) | J24: =IF(G24=O24,"",1) | K24: =IF(OR(I24=1,J24=1),1,"") | L24: 1373 | M24: Ma001
A25: 2_1373_L15_054.fsa | B25: 1373 | C25: E245_MARM_170517 | D25: Ma002 | E25: Y | I25: =IF(F25=N25,"",1) -> 1 | J25: =IF(G25=O25,"",1) -> 1 | K25: =IF(OR(I25=1,J25=1),1,"") -> 1 | L25: 1373 | M25: Ma002 | N25: 271 | O25: 279
A26: 2_1373_L15_054.fsa | B26: 1373 | C26: E245_MARM_170517 | D26: Ma018 | E26: G | F26: 296 | G26: 298 | I26: =IF(F26=N26,"",1) | J26: =IF(G26=O26,"",1) | K26: =IF(OR(I26=1,J26=1),1,"") | L26: 1373 | M26: Ma018 | N26: 296 | O26: 298
A27: 2_1373_L15_054.fsa | B27: 1373 | C27: E245_MARM_170517 | D27: Ma066 | E27: B | F27: 231 | I27: =IF(F27=N27,"",1) | J27: =IF(G27=O27,"",1) | K27: =IF(OR(I27=1,J27=1),1,"") | L27: 1373 | M27: Ma066 | N27: 231
A28: 1_1373_K15_054.fsa | B28: 1373 | C28: E245_MARM_170517 | D28: Ma091 | E28: B | F28: 173 | G28: 175 | I28: =IF(F28=N28,"",1) | J28: =IF(G28=O28,"",1) | K28: =IF(OR(I28=1,J28=1),1,"") | L28: 1373 | M28: Ma091 | N28: 173 | O28: 175
A29: 2_1373_L15_054.fsa | B29: 1373 | C29: E245_MARM_170517 | D29: MS41 | E29: G | F29: 186 | I29: =IF(F29=N29,"",1) | J29: =IF(G29=O29,"",1) | K29: =IF(OR(I29=1,J29=1),1,"") | L29: 1373 | M29: MS41 | N29: 186
A30: 2_1373_L15_054.fsa | B30: 1373 | C30: E245_MARM_170517 | D30: MS45 | E30: B | F30: 107 | G30: 109 | I30: =IF(F30=N30,"",1) | J30: =IF(G30=O30,"",1) | K30: =IF(OR(I30=1,J30=1),1,"") | L30: 1373 | M30: MS45 | N30: 107 | O30: 109
A31: 1_1373_K15_054.fsa | B31: 1373 | C31: E245_MARM_170517 | D31: MS47 | E31: Y | F31: 180 | I31: =IF(F31=N31,"",1) | J31: =IF(G31=O31,"",1) | K31: =IF(OR(I31=1,J31=1),1,"") | L31: 1373 | M31: MS47 | N31: 180
A32: 1_1373_K15_054.fsa | B32: 1373 | C32: E245_MARM_170517 | D32: MS53 | E32: Y | F32: 142 | I32: =IF(F32=N32,"",1) | J32: =IF(G32=O32,"",1) | K32: =IF(OR(I32=1,J32=1),1,"") | L32: 1373 | M32: MS53 | N32: 142
A33: 1_1373_K15_054.fsa | B33: 1373 | C33: E245_MARM_170517 | D33: MS56 | E33: G | F33: 108 | I33: =IF(F33=N33,"",1) -> 1 | J33: =IF(G33=O33,"",1) | K33: =IF(OR(I33=1,J33=1),1,"") -> 1 | L33: 1373 | M33: MS56 | N33: 106
A34: 1_1373_K15_054.fsa | B34: 1373 | C34: E245_MARM_170517 | D34: MS6 | E34: G | F34: 158 | I34: =IF(F34=N34,"",1) | J34: =IF(G34=O34,"",1) | K34: =IF(OR(I34=1,J34=1),1,"") | L34: 1373 | M34: MS6 | N34: 158
A35: 2_1373_L15_054.fsa | B35: 1373 | C35: E245_MARM_170517 | D35: ST10 | E35: G | F35: 116 | G35: 118 | I35: =IF(F35=N35,"",1) | J35: =IF(G35=O35,"",1) | K35: =IF(OR(I35=1,J35=1),1,"") | L35: 1373 | M35: ST10 | N35: 116 | O35: 118
A36: 1_1417_A13_063.fsa | B36: 1417 | C36: E245_MARM_170517 | D36: Bibl1 | E36: B | F36: 101 | G36: 103 | I36: =IF(F36=N36,"",1) | J36: =IF(G36=O36,"",1) | K36: =IF(OR(I36=1,J36=1),1,"") | L36: 1417 | M36: Bibl1 | N36: 101 | O36: 103
A37: 2_1417_B13_063.fsa | B37: 1417 | C37: E245_MARM_170517 | D37: Bibl18 | E37: R | F37: 143 | G37: 145 | I37: =IF(F37=N37,"",1) | J37: =IF(G37=O37,"",1) | K37: =IF(OR(I37=1,J37=1),1,"") | L37: 1417 | M37: Bibl18 | N37: 143 | O37: 145
A38: 1_1417_A13_063.fsa | B38: 1417 | C38: E245_MARM_170517 | D38: Bibl20 | E38: G | F38: 208 | I38: =IF(F38=N38,"",1) | J38: =IF(G38=O38,"",1) | K38: =IF(OR(I38=1,J38=1),1,"") | L38: 1417 | M38: Bibl20 | N38: 208
A39: 2_1417_B13_063.fsa | B39: 1417 | C39: E245_MARM_170517 | D39: Bibl31 | E39: Y | F39: 157 | G39: 161 | I39: =IF(F39=N39,"",1) | J39: =IF(G39=O39,"",1) | K39: =IF(OR(I39=1,J39=1),1,"") | L39: 1417 | M39: Bibl31 | N39: 157 | O39: 161
A40: 1_1417_A13_063.fsa | B40: 1417 | C40: E245_MARM_170517 | D40: Bibl4 | E40: R | I40: =IF(F40=N40,"",1) | J40: =IF(G40=O40,"",1) | K40: =IF(OR(I40=1,J40=1),1,"") | L40: 1417 | M40: Bibl4
A41: 2_1417_B13_063.fsa | B41: 1417 | C41: E245_MARM_170517 | D41: Ma001 | E41: B | F41: 305 | I41: =IF(F41=N41,"",1) | J41: =IF(G41=O41,"",1) | K41: =IF(OR(I41=1,J41=1),1,"") | L41: 1417 | M41: Ma001 | N41: 305
A42: 2_1417_B13_063.fsa | B42: 1417 | C42: E245_MARM_170517 | D42: Ma002 | E42: Y | F42: 271 | G42: 283 | I42: =IF(F42=N42,"",1) | J42: =IF(G42=O42,"",1) | K42: =IF(OR(I42=1,J42=1),1,"") | L42: 1417 | M42: Ma002 | N42: 271 | O42: 283
A43: 2_1417_B13_063.fsa | B43: 1417 | C43: E245_MARM_170517 | D43: Ma018 | E43: G | F43: 298 | I43: =IF(F43=N43,"",1) | J43: =IF(G43=O43,"",1) | K43: =IF(OR(I43=1,J43=1),1,"") | L43: 1417 | M43: Ma018 | N43: 298
A44: 2_1417_B13_063.fsa | B44: 1417 | C44: E245_MARM_170517 | D44: Ma066 | E44: B | F44: 231 | G44: 241 | I44: =IF(F44=N44,"",1) | J44: =IF(G44=O44,"",1) | K44: =IF(OR(I44=1,J44=1),1,"") | L44: 1417 | M44: Ma066 | N44: 231 | O44: 241
A45: 1_1417_A13_063.fsa | B45: 1417 | C45: E245_MARM_170517 | D45: Ma091 | E45: B | F45: 173 | G45: 175 | I45: =IF(F45=N45,"",1) | J45: =IF(G45=O45,"",1) | K45: =IF(OR(I45=1,J45=1),1,"") | L45: 1417 | M45: Ma091 | N45: 173 | O45: 175
A46: 2_1417_B13_063.fsa | B46: 1417 | C46: E245_MARM_170517 | D46: MS41 | E46: G | F46: 184 | G46: 186 | I46: =IF(F46=N46,"",1) | J46: =IF(G46=O46,"",1) | K46: =IF(OR(I46=1,J46=1),1,"") | L46: 1417 | M46: MS41 | N46: 184 | O46: 186
A47: 2_1417_B13_063.fsa | B47: 1417 | C47: E245_MARM_170517 | D47: MS45 | E47: B | F47: 109 | G47: 111 | I47: =IF(F47=N47,"",1) | J47: =IF(G47=O47,"",1) | K47: =IF(OR(I47=1,J47=1),1,"") | L47: 1417 | M47: MS45 | N47: 109 | O47: 111
A48: 1_1417_A13_063.fsa | B48: 1417 | C48: E245_MARM_170517 | D48: MS47 | E48: Y | F48: 176 | G48: 184 | I48: =IF(F48=N48,"",1) | J48: =IF(G48=O48,"",1) | K48: =IF(OR(I48=1,J48=1),1,"") | L48: 1417 | M48: MS47 | N48: 176 | O48: 184
A49: 1_1417_A13_063.fsa | B49: 1417 | C49: E245_MARM_170517 | D49: MS53 | E49: Y | F49: 140 | G49: 142 | I49: =IF(F49=N49,"",1) | J49: =IF(G49=O49,"",1) | K49: =IF(OR(I49=1,J49=1),1,"") | L49: 1417 | M49: MS53 | N49: 140 | O49: 142
A50: 1_1417_A13_063.fsa | B50: 1417 | C50: E245_MARM_170517 | D50: MS56 | E50: G | F50: 108 | I50: =IF(F50=N50,"",1) | J50: =IF(G50=O50,"",1) | K50: =IF(OR(I50=1,J50=1),1,"") | L50: 1417 | M50: MS56 | N50: 108
A51: 1_1417_A13_063.fsa | B51: 1417 | C51: E245_MARM_170517 | D51: MS6 | E51: G | F51: 158 | I51: =IF(F51=N51,"",1) | J51: =IF(G51=O51,"",1) | K51: =IF(OR(I51=1,J51=1),1,"") | L51: 1417 | M51: MS6 | N51: 158
A52: 2_1417_B13_063.fsa | B52: 1417 | C52: E245_MARM_170517 | D52: ST10 | E52: G | F52: 130 | G52: 136 | I52: =IF(F52=N52,"",1) | J52: =IF(G52=O52,"",1) | K52: =IF(OR(I52=1,J52=1),1,"") | L52: 1417 | M52: ST10 | N52: 130 | O52: 136
A53: 1_1499_A21_095.fsa | B53: 1499 | C53: E245_MARM_170517 | D53: Bibl1 | E53: B | F53: 97 | G53: 107 | I53: =IF(F53=N53,"",1) | J53: =IF(G53=O53,"",1) | K53: =IF(OR(I53=1,J53=1),1,"") | L53: 1499 | M53: Bibl1 | N53: 97 | O53: 107
A54: 2_1499_B21_095.fsa | B54: 1499 | C54: E245_MARM_170517 | D54: Bibl18 | E54: R | F54: 145 | I54: =IF(F54=N54,"",1) | J54: =IF(G54=O54,"",1) | K54: =IF(OR(I54=1,J54=1),1,"") | L54: 1499 | M54: Bibl18 | N54: 145
A55: 1_1499_A21_095.fsa | B55: 1499 | C55: E245_MARM_170517 | D55: Bibl20 | E55: G | F55: 206 | G55: 208 | I55: =IF(F55=N55,"",1) | J55: =IF(G55=O55,"",1) | K55: =IF(OR(I55=1,J55=1),1,"") | L55: 1499 | M55: Bibl20 | N55: 206 | O55: 208
A56: 2_1499_B21_095.fsa | B56: 1499 | C56: E245_MARM_170517 | D56: Bibl31 | E56: Y | F56: 157 | G56: 161 | I56: =IF(F56=N56,"",1) | J56: =IF(G56=O56,"",1) | K56: =IF(OR(I56=1,J56=1),1,"") | L56: 1499 | M56: Bibl31 | N56: 157 | O56: 161
A57: 1_1499_A21_095.fsa | B57: 1499 | C57: E245_MARM_170517 | D57: Bibl4 | E57: R | F57: 190 | I57: =IF(F57=N57,"",1) | J57: =IF(G57=O57,"",1) | K57: =IF(OR(I57=1,J57=1),1,"") | L57: 1499 | M57: Bibl4 | N57: 190
A58: 2_1499_B21_095.fsa | B58: 1499 | C58: E245_MARM_170517 | D58: Ma001 | E58: B | F58: 305 | I58: =IF(F58=N58,"",1) | J58: =IF(G58=O58,"",1) | K58: =IF(OR(I58=1,J58=1),1,"") | L58: 1499 | M58: Ma001 | N58: 305
A59: 2_1499_B21_095.fsa | B59: 1499 | C59: E245_MARM_170517 | D59: Ma002 | E59: Y | F59: 279 | G59: 283 | I59: =IF(F59=N59,"",1) | J59: =IF(G59=O59,"",1) | K59: =IF(OR(I59=1,J59=1),1,"") | L59: 1499 | M59: Ma002 | N59: 279 | O59: 283
A60: 2_1499_B21_095.fsa | B60: 1499 | C60: E245_MARM_170517 | D60: Ma018 | E60: G | F60: 296 | G60: 298 | I60: =IF(F60=N60,"",1) | J60: =IF(G60=O60,"",1) | K60: =IF(OR(I60=1,J60=1),1,"") | L60: 1499 | M60: Ma018 | N60: 296 | O60: 298
A61: 2_1499_B21_095.fsa | B61: 1499 | C61: E245_MARM_170517 | D61: Ma066 | E61: B | F61: 231 | G61: 241 | I61: =IF(F61=N61,"",1) | J61: =IF(G61=O61,"",1) | K61: =IF(OR(I61=1,J61=1),1,"") | L61: 1499 | M61: Ma066 | N61: 231 | O61: 241
A62: 1_1499_A21_095.fsa | B62: 1499 | C62: E245_MARM_170517 | D62: Ma091 | E62: B | F62: 173 | G62: 179 | I62: =IF(F62=N62,"",1) | J62: =IF(G62=O62,"",1) | K62: =IF(OR(I62=1,J62=1),1,"") | L62: 1499 | M62: Ma091 | N62: 173 | O62: 179
A63: 2_1499_B21_095.fsa | B63: 1499 | C63: E245_MARM_170517 | D63: MS41 | E63: G | F63: 184 | G63: 186 | I63: =IF(F63=N63,"",1) | J63: =IF(G63=O63,"",1) | K63: =IF(OR(I63=1,J63=1),1,"") | L63: 1499 | M63: MS41 | N63: 184 | O63: 186
A64: 2_1499_B21_095.fsa | B64: 1499 | C64: E245_MARM_170517 | D64: MS45 | E64: B | F64: 109 | G64: 111 | I64: =IF(F64=N64,"",1) | J64: =IF(G64=O64,"",1) | K64: =IF(OR(I64=1,J64=1),1,"") | L64: 1499 | M64: MS45 | N64: 109 | O64: 111
A65: 1_1499_A21_095.fsa | B65: 1499 | C65: E245_MARM_170517 | D65: MS47 | E65: Y | F65: 184 | G65: 186 | I65: =IF(F65=N65,"",1) | J65: =IF(G65=O65,"",1) | K65: =IF(OR(I65=1,J65=1),1,"") | L65: 1499 | M65: MS47 | N65: 184 | O65: 186
A66: 1_1499_A21_095.fsa | B66: 1499 | C66: E245_MARM_170517 | D66: MS53 | E66: Y | F66: 142 | G66: 144 | I66: =IF(F66=N66,"",1) | J66: =IF(G66=O66,"",1) | K66: =IF(OR(I66=1,J66=1),1,"") | L66: 1499 | M66: MS53 | N66: 142 | O66: 144
A67: 1_1499_A21_095.fsa | B67: 1499 | C67: E245_MARM_170517 | D67: MS56 | E67: G | F67: 106 | G67: 108 | I67: =IF(F67=N67,"",1) -> 1 | J67: =IF(G67=O67,"",1) -> 1 | K67: =IF(OR(I67=1,J67=1),1,"") -> 1 | L67: 1499 | M67: MS56 | N67: 104 | O67: 106
A68: 1_1499_A21_095.fsa | B68: 1499 | C68: E245_MARM_170517 | D68: MS6 | E68: G | F68: 158 | I68: =IF(F68=N68,"",1) | J68: =IF(G68=O68,"",1) | K68: =IF(OR(I68=1,J68=1),1,"") | L68: 1499 | M68: MS6 | N68: 158
A69: 2_1499_B21_095.fsa | B69: 1499 | C69: E245_MARM_170517 | D69: ST10 | E69: G | F69: 132 | G69: 136 | I69: =IF(F69=N69,"",1) | J69: =IF(G69=O69,"",1) | K69: =IF(OR(I69=1,J69=1),1,"") | L69: 1499 | M69: ST10 | N69: 132 | O69: 136
A70: 1_1598_O21_081.fsa | B70: 1598 | C70: E245_MARM_170517 | D70: Bibl1 | E70: B | I70: =IF(F70=N70,"",1) | J70: =IF(G70=O70,"",1) | K70: =IF(OR(I70=1,J70=1),1,"") | L70: 1598 | M70: Bibl1
A71: 2_1598_P21_081.fsa | B71: 1598 | C71: E245_MARM_170517 | D71: Bibl18 | E71: R | F71: 143 | G71: 147 | I71: =IF(F71=N71,"",1) | J71: =IF(G71=O71,"",1) | K71: =IF(OR(I71=1,J71=1),1,"") | L71: 1598 | M71: Bibl18 | N71: 143 | O71: 147
A72: 1_1598_O21_081.fsa | B72: 1598 | C72: E245_MARM_170517 | D72: Bibl20 | E72: G | I72: =IF(F72=N72,"",1) | J72: =IF(G72=O72,"",1) | K72: =IF(OR(I72=1,J72=1),1,"") | L72: 1598 | M72: Bibl20
A73: 2_1598_P21_081.fsa | B73: 1598 | C73: E245_MARM_170517 | D73: Bibl31 | E73: Y | F73: 157 | G73: 159 | I73: =IF(F73=N73,"",1) | J73: =IF(G73=O73,"",1) | K73: =IF(OR(I73=1,J73=1),1,"") | L73: 1598 | M73: Bibl31 | N73: 157 | O73: 159
A74: 1_1598_O21_081.fsa | B74: 1598 | C74: E245_MARM_170517 | D74: Bibl4 | E74: R | I74: =IF(F74=N74,"",1) | J74: =IF(G74=O74,"",1) | K74: =IF(OR(I74=1,J74=1),1,"") | L74: 1598 | M74: Bibl4
A75: 2_1598_P21_081.fsa | B75: 1598 | C75: E245_MARM_170517 | D75: Ma001 | E75: B | F75: 305 | I75: =IF(F75=N75,"",1) | J75: =IF(G75=O75,"",1) | K75: =IF(OR(I75=1,J75=1),1,"") | L75: 1598 | M75: Ma001 | N75: 305
A76: 2_1598_P21_081.fsa | B76: 1598 | C76: E245_MARM_170517 | D76: Ma002 | E76: Y | F76: 279 | G76: 281 | I76: =IF(F76=N76,"",1) | J76: =IF(G76=O76,"",1) | K76: =IF(OR(I76=1,J76=1),1,"") | L76: 1598 | M76: Ma002 | N76: 279 | O76: 281
A77: 2_1598_P21_081.fsa | B77: 1598 | C77: E245_MARM_170517 | D77: Ma018 | E77: G | F77: 298 | I77: =IF(F77=N77,"",1) | J77: =IF(G77=O77,"",1) | K77: =IF(OR(I77=1,J77=1),1,"") | L77: 1598 | M77: Ma018 | N77: 298
A78: 2_1598_P21_081.fsa | B78: 1598 | C78: E245_MARM_170517 | D78: Ma066 | E78: B | F78: 231 | G78: 241 | I78: =IF(F78=N78,"",1) | J78: =IF(G78=O78,"",1) | K78: =IF(OR(I78=1,J78=1),1,"") | L78: 1598 | M78: Ma066 | N78: 231 | O78: 241
A79: 1_1598_O21_081.fsa | B79: 1598 | C79: E245_MARM_170517 | D79: Ma091 | E79: B | I79: =IF(F79=N79,"",1) | J79: =IF(G79=O79,"",1) | K79: =IF(OR(I79=1,J79=1),1,"") | L79: 1598 | M79: Ma091
A80: 2_1598_P21_081.fsa | B80: 1598 | C80: E245_MARM_170517 | D80: MS41 | E80: G | F80: 186 | I80: =IF(F80=N80,"",1) | J80: =IF(G80=O80,"",1) | K80: =IF(OR(I80=1,J80=1),1,"") | L80: 1598 | M80: MS41 | N80: 186
A81: 2_1598_P21_081.fsa | B81: 1598 | C81: E245_MARM_170517 | D81: MS45 | E81: B | F81: 107 | G81: 109 | I81: =IF(F81=N81,"",1) | J81: =IF(G81=O81,"",1) | K81: =IF(OR(I81=1,J81=1),1,"") | L81: 1598 | M81: MS45 | N81: 107 | O81: 109
A82: 1_1598_O21_081.fsa | B82: 1598 | C82: E245_MARM_170517 | D82: MS47 | E82: Y | I82: =IF(F82=N82,"",1) | J82: =IF(G82=O82,"",1) | K82: =IF(OR(I82=1,J82=1),1,"") | L82: 1598 | M82: MS47
A83: 1_1598_O21_081.fsa | B83: 1598 | C83: E245_MARM_170517 | D83: MS53 | E83: Y | I83: =IF(F83=N83,"",1) | J83: =IF(G83=O83,"",1) | K83: =IF(OR(I83=1,J83=1),1,"") | L83: 1598 | M83: MS53
A84: 1_1598_O21_081.fsa | B84: 1598 | C84: E245_MARM_170517 | D84: MS56 | E84: G | F84: 108 | G84: 108 | I84: =IF(F84=N84,"",1) -> 1 | J84: =IF(G84=O84,"",1) | K84: =IF(OR(I84=1,J84=1),1,"") -> 1 | L84: 1598 | M84: MS56 | N84: 106 | O84: 108
A85: 1_1598_O21_081.fsa | B85: 1598 | C85: E245_MARM_170517 | D85: MS6 | E85: G | I85: =IF(F85=N85,"",1) | J85: =IF(G85=O85,"",1) | K85: =IF(OR(I85=1,J85=1),1,"") | L85: 1598 | M85: MS6
A86: 2_1598_P21_081.fsa | B86: 1598 | C86: E245_MARM_170517 | D86: ST10 | E86: G | F86: 116 | G86: 120 | I86: =IF(F86=N86,"",1) | J86: =IF(G86=O86,"",1) | K86: =IF(OR(I86=1,J86=1),1,"") | L86: 1598 | M86: ST10 | N86: 116 | O86: 120
A87: 1_1606_A01_015.fsa | B87: 1606 | C87: E245_MARM_170517 | D87: Bibl1 | E87: B | F87: 101 | I87: =IF(F87=N87,"",1) | J87: =IF(G87=O87,"",1) | K87: =IF(OR(I87=1,J87=1),1,"") | L87: 1606 | M87: Bibl1 | N87: 101
A88: 2_1606_B01_015.fsa | B88: 1606 | C88: E245_MARM_170517 | D88: Bibl18 | E88: R | F88: 143 | G88: 147 | I88: =IF(F88=N88,"",1) | J88: =IF(G88=O88,"",1) | K88: =IF(OR(I88=1,J88=1),1,"") | L88: 1606 | M88: Bibl18 | N88: 143 | O88: 147
A89: 1_1606_A01_015.fsa | B89: 1606 | C89: E245_MARM_170517 | D89: Bibl20 | E89: G | F89: 208 | I89: =IF(F89=N89,"",1) | J89: =IF(G89=O89,"",1) | K89: =IF(OR(I89=1,J89=1),1,"") | L89: 1606 | M89: Bibl20 | N89: 208
A90: 2_1606_B01_015.fsa | B90: 1606 | C90: E245_MARM_170517 | D90: Bibl31 | E90: Y | F90: 157 | G90: 159 | I90: =IF(F90=N90,"",1) | J90: =IF(G90=O90,"",1) | K90: =IF(OR(I90=1,J90=1),1,"") | L90: 1606 | M90: Bibl31 | N90: 157 | O90: 159
A91: 1_1606_A01_015.fsa | B91: 1606 | C91: E245_MARM_170517 | D91: Bibl4 | E91: R | F91: 190 | I91: =IF(F91=N91,"",1) | J91: =IF(G91=O91,"",1) | K91: =IF(OR(I91=1,J91=1),1,"") | L91: 1606 | M91: Bibl4 | N91: 190
A92: 2_1606_B01_015.fsa | B92: 1606 | C92: E245_MARM_170517 | D92: Ma001 | E92: B | F92: 305 | I92: =IF(F92=N92,"",1) | J92: =IF(G92=O92,"",1) | K92: =IF(OR(I92=1,J92=1),1,"") | L92: 1606 | M92: Ma001 | N92: 305
A93: 2_1606_B01_015.fsa | B93: 1606 | C93: E245_MARM_170517 | D93: Ma002 | E93: Y | I93: =IF(F93=N93,"",1) | J93: =IF(G93=O93,"",1) | K93: =IF(OR(I93=1,J93=1),1,"") | L93: 1606 | M93: Ma002
A94: 2_1606_B01_015.fsa | B94: 1606 | C94: E245_MARM_170517 | D94: Ma018 | E94: G | F94: 298 | I94: =IF(F94=N94,"",1) | J94: =IF(G94=O94,"",1) | K94: =IF(OR(I94=1,J94=1),1,"") | L94: 1606 | M94: Ma018 | N94: 298
A95: 2_1606_B01_015.fsa | B95: 1606 | C95: E245_MARM_170517 | D95: Ma066 | E95: B | F95: 231 | G95: 241 | I95: =IF(F95=N95,"",1) | J95: =IF(G95=O95,"",1) | K95: =IF(OR(I95=1,J95=1),1,"") | L95: 1606 | M95: Ma066 | N95: 231 | O95: 241
A96: 1_1606_A01_015.fsa | B96: 1606 | C96: E245_MARM_170517 | D96: Ma091 | E96: B | F96: 175 | G96: 179 | I96: =IF(F96=N96,"",1) | J96: =IF(G96=O96,"",1) | K96: =IF(OR(I96=1,J96=1),1,"") | L96: 1606 | M96: Ma091 | N96: 175 | O96: 179
A97: 2_1606_B01_015.fsa | B97: 1606 | C97: E245_MARM_170517 | D97: MS41 | E97: G | F97: 184 | G97: 186 | I97: =IF(F97=N97,"",1) | J97: =IF(G97=O97,"",1) | K97: =IF(OR(I97=1,J97=1),1,"") | L97: 1606 | M97: MS41 | N97: 184 | O97: 186
A98: 2_1606_B01_015.fsa | B98: 1606 | C98: E245_MARM_170517 | D98: MS45 | E98: B | F98: 109 | I98: =IF(F98=N98,"",1) | J98: =IF(G98=O98,"",1) -> 1 | K98: =IF(OR(I98=1,J98=1),1,"") -> 1 | L98: 1606 | M98: MS45 | N98: 109 | O98: 113
A99: 1_1606_A01_015.fsa | B99: 1606 | C99: E245_MARM_170517 | D99: MS47 | E99: Y | F99: 184 | G99: 186 | I99: =IF(F99=N99,"",1) | J99: =IF(G99=O99,"",1) | K99: =IF(OR(I99=1,J99=1),1,"") | L99: 1606 | M99: MS47 | N99: 184 | O99: 186
A100: 1_1606_A01_015.fsa | B100: 1606 | C100: E245_MARM_170517 | D100: MS53 | E100: Y | F100: 140 | G100: 142 | I100: =IF(F100=N100,"",1) | J100: =IF(G100=O100,"",1) | K100: =IF(OR(I100=1,J100=1),1,"") | L100: 1606 | M100: MS53 | N100: 140 | O100: 142
...

Sheet TAB_BILAN_essai1
A3: Nombre de erreur | B3: Étiquettes de colonnes
A4: Étiquettes de lignes | B4: 1 | D4: (vide) | E4: Total général | H4: Marqueur | I4: nb erreur | J4: nb correct | K4: Y
A5: Bibl1 | B5: 1 | C5: 95 | E5: 96 | H5: MS56 | I5: 60 | J5: 36 | K5: =I5/SUM(I5:J5) -> 0.625
A6: Bibl18 | B6: 4 | C6: 92 | E6: 96 | H6: Bibl4 | I6: 31 | J6: 65 | K6: =I6/SUM(I6:J6) -> 0.32291667
A7: Bibl20 | B7: 1 | C7: 95 | E7: 96 | H7: MS45 | I7: 13 | J7: 83 | K7: =I7/SUM(I7:J7) -> 0.13541667
A8: Bibl31 | B8: 2 | C8: 94 | E8: 96 | H8: ST10 | I8: 12 | J8: 84 | K8: =I8/SUM(I8:J8) -> 0.125
A9: Bibl4 | B9: 31 | C9: 65 | E9: 96 | H9: MS6 | I9: 8 | J9: 88 | K9: =I9/SUM(I9:J9) -> 0.083333333
A10: Ma001 | C10: 96 | E10: 96 | H10: Bibl18 | I10: 4 | J10: 92 | K10: =I10/SUM(I10:J10) -> 0.041666667
A11: Ma002 | B11: 2 | C11: 94 | E11: 96 | H11: Ma066 | I11: 4 | J11: 92 | K11: =I11/SUM(I11:J11) -> 0.041666667
A12: Ma018 | B12: 3 | C12: 93 | E12: 96 | H12: MS47 | I12: 4 | J12: 92 | K12: =I12/SUM(I12:J12) -> 0.041666667
A13: Ma066 | B13: 4 | C13: 92 | E13: 96 | H13: Ma018 | I13: 3 | J13: 93 | K13: =I13/SUM(I13:J13) -> 0.03125
A14: Ma091 | C14: 96 | E14: 96 | H14: MS53 | I14: 3 | J14: 93 | K14: =I14/SUM(I14:J14) -> 0.03125
A15: MS41 | B15: 1 | C15: 95 | E15: 96 | H15: Bibl31 | I15: 2 | J15: 94 | K15: =I15/SUM(I15:J15) -> 0.020833333
A16: MS45 | B16: 13 | C16: 83 | E16: 96 | H16: Ma002 | I16: 2 | J16: 94 | K16: =I16/SUM(I16:J16) -> 0.020833333
A17: MS47 | B17: 4 | C17: 92 | E17: 96 | H17: Bibl1 | I17: 1 | J17: 95 | K17: =I17/SUM(I17:J17) -> 0.010416667
A18: MS53 | B18: 3 | C18: 93 | E18: 96 | H18: Bibl20 | I18: 1 | J18: 95 | K18: =I18/SUM(I18:J18) -> 0.010416667
A19: MS56 | B19: 60 | C19: 36 | E19: 96 | H19: MS41 | I19: 1 | J19: 95 | K19: =I19/SUM(I19:J19) -> 0.010416667
A20: MS6 | B20: 8 | C20: 88 | E20: 96 | H20: Ma001 | I20: 0 | J20: 96 | K20: =I20/SUM(I20:J20) -> 0
A21: ST10 | B21: 12 | C21: 84 | E21: 96 | H21: Ma091 | I21: 0 | J21: 96 | K21: =I21/SUM(I21:J21) -> 0
A22: (vide)
A23: Total général | B23: 149 | C23: 1483 | E23: 1632

Sheet comparaison_essai2
A1: SampleFile | B1: SampleName | C1: RunName | D1: Marker | E1: Dye | F1: llele1 | G1: llele2 | I1: Alle_1_bool | J1: Allele2_bool | K1: erreur | L1: Individu | M1: Marqueur | N1: Allèle1 | O1: Allèle2 | P1: moi c NA | Q1: moi NA c | R1: quali different
A2: 1_1360_E07_028.fsa | B2: 1360 | C2: E245_MARM_170517 | D2: Bibl1 | E2: B | F2: 97 | G2: 107 | I2: =IF(F2=N2,"",1) | J2: =IF(G2=O2,"",1) | K2: =IF(OR(I2=1,J2=1),1,"") | L2: 1360 | M2: Bibl1 | N2: 97 | O2: 107
A3: 2_1360_F07_028.fsa | B3: 1360 | C3: E245_MARM_170517 | D3: Bibl18 | E3: R | F3: 145 | G3: 147 | I3: =IF(F3=N3,"",1) | J3: =IF(G3=O3,"",1) | K3: =IF(OR(I3=1,J3=1),1,"") | L3: 1360 | M3: Bibl18 | N3: 145 | O3: 147
A4: 1_1360_E07_028.fsa | B4: 1360 | C4: E245_MARM_170517 | D4: Bibl20 | E4: G | F4: 208 | G4: 216 | I4: =IF(F4=N4,"",1) | J4: =IF(G4=O4,"",1) | K4: =IF(OR(I4=1,J4=1),1,"") | L4: 1360 | M4: Bibl20 | N4: 208 | O4: 216
A5: 2_1360_F07_028.fsa | B5: 1360 | C5: E245_MARM_170517 | D5: Bibl31 | E5: Y | F5: 157 | G5: 163 | I5: =IF(F5=N5,"",1) | J5: =IF(G5=O5,"",1) | K5: =IF(OR(I5=1,J5=1),1,"") | L5: 1360 | M5: Bibl31 | N5: 157 | O5: 163
A6: 1_1360_E07_028.fsa | B6: 1360 | C6: E245_MARM_170517 | D6: Bibl4 | E6: R | F6: 190 | G6: 192 | I6: =IF(F6=N6,"",1) | J6: =IF(G6=O6,"",1) | K6: =IF(OR(I6=1,J6=1),1,"") | L6: 1360 | M6: Bibl4 | N6: 190 | O6: 192
A7: 2_1360_F07_028.fsa | B7: 1360 | C7: E245_MARM_170517 | D7: Ma001 | E7: B | F7: 305 | G7: 307 | I7: =IF(F7=N7,"",1) | J7: =IF(G7=O7,"",1) | K7: =IF(OR(I7=1,J7=1),1,"") | L7: 1360 | M7: Ma001 | N7: 305 | O7: 307
A8: 2_1360_F07_028.fsa | B8: 1360 | C8: E245_MARM_170517 | D8: Ma002 | E8: Y | F8: 279 | G8: 281 | I8: =IF(F8=N8,"",1) | J8: =IF(G8=O8,"",1) | K8: =IF(OR(I8=1,J8=1),1,"") | L8: 1360 | M8: Ma002 | N8: 279 | O8: 281
A9: 2_1360_F07_028.fsa | B9: 1360 | C9: E245_MARM_170517 | D9: Ma018 | E9: G | F9: 298 | I9: =IF(F9=N9,"",1) | J9: =IF(G9=O9,"",1) | K9: =IF(OR(I9=1,J9=1),1,"") | L9: 1360 | M9: Ma018 | N9: 298
A10: 2_1360_F07_028.fsa | B10: 1360 | C10: E245_MARM_170517 | D10: Ma066 | E10: B | F10: 231 | I10: =IF(F10=N10,"",1) | J10: =IF(G10=O10,"",1) | K10: =IF(OR(I10=1,J10=1),1,"") | L10: 1360 | M10: Ma066 | N10: 231
A11: 1_1360_E07_028.fsa | B11: 1360 | C11: E245_MARM_170517 | D11: Ma091 | E11: B | F11: 173 | G11: 175 | I11: =IF(F11=N11,"",1) | J11: =IF(G11=O11,"",1) | K11: =IF(OR(I11=1,J11=1),1,"") | L11: 1360 | M11: Ma091 | N11: 173 | O11: 175
A12: 2_1360_F07_028.fsa | B12: 1360 | C12: E245_MARM_170517 | D12: MS41 | E12: G | F12: 184 | G12: 186 | I12: =IF(F12=N12,"",1) | J12: =IF(G12=O12,"",1) | K12: =IF(OR(I12=1,J12=1),1,"") | L12: 1360 | M12: MS41 | N12: 184 | O12: 186
A13: 2_1360_F07_028.fsa | B13: 1360 | C13: E245_MARM_170517 | D13: MS45 | E13: B | F13: 107 | I13: =IF(F13=N13,"",1) | J13: =IF(G13=O13,"",1) | K13: =IF(OR(I13=1,J13=1),1,"") | L13: 1360 | M13: MS45 | N13: 107
A14: 1_1360_E07_028.fsa | B14: 1360 | C14: E245_MARM_170517 | D14: MS47 | E14: Y | F14: 184 | G14: 186 | I14: =IF(F14=N14,"",1) | J14: =IF(G14=O14,"",1) | K14: =IF(OR(I14=1,J14=1),1,"") | L14: 1360 | M14: MS47 | N14: 184 | O14: 186
A15: 1_1360_E07_028.fsa | B15: 1360 | C15: E245_MARM_170517 | D15: MS53 | E15: Y | F15: 140 | G15: 142 | I15: =IF(F15=N15,"",1) | J15: =IF(G15=O15,"",1) | K15: =IF(OR(I15=1,J15=1),1,"") | L15: 1360 | M15: MS53 | N15: 140 | O15: 142
A16: 1_1360_E07_028.fsa | B16: 1360 | C16: E245_MARM_170517 | D16: MS56 | E16: G | F16: 106 | G16: 108 | I16: =IF(F16=N16,"",1) | J16: =IF(G16=O16,"",1) | K16: =IF(OR(I16=1,J16=1),1,"") | L16: 1360 | M16: MS56 | N16: 106 | O16: 108
A17: 1_1360_E07_028.fsa | B17: 1360 | C17: E245_MARM_170517 | D17: MS6 | E17: G | F17: 158 | I17: =IF(F17=N17,"",1) | J17: =IF(G17=O17,"",1) | K17: =IF(OR(I17=1,J17=1),1,"") | L17: 1360 | M17: MS6 | N17: 158
A18: 2_1360_F07_028.fsa | B18: 1360 | C18: E245_MARM_170517 | D18: ST10 | E18: G | F18: 116 | G18: 118 | I18: =IF(F18=N18,"",1) | J18: =IF(G18=O18,"",1) | K18: =IF(OR(I18=1,J18=1),1,"") | L18: 1360 | M18: ST10 | N18: 116 | O18: 118
A19: 1_1373_K15_054.fsa | B19: 1373 | C19: E245_MARM_170517 | D19: Bibl1 | E19: B | F19: 95 | G19: 101 | I19: =IF(F19=N19,"",1) | J19: =IF(G19=O19,"",1) | K19: =IF(OR(I19=1,J19=1),1,"") | L19: 1373 | M19: Bibl1 | N19: 95 | O19: 101
A20: 2_1373_L15_054.fsa | B20: 1373 | C20: E245_MARM_170517 | D20: Bibl18 | E20: R | F20: 147 | G20: 149 | I20: =IF(F20=N20,"",1) | J20: =IF(G20=O20,"",1) | K20: =IF(OR(I20=1,J20=1),1,"") | L20: 1373 | M20: Bibl18 | N20: 147 | O20: 149
A21: 1_1373_K15_054.fsa | B21: 1373 | C21: E245_MARM_170517 | D21: Bibl20 | E21: G | F21: 216 | G21: 218 | I21: =IF(F21=N21,"",1) | J21: =IF(G21=O21,"",1) | K21: =IF(OR(I21=1,J21=1),1,"") | L21: 1373 | M21: Bibl20 | N21: 216 | O21: 218
A22: 2_1373_L15_054.fsa | B22: 1373 | C22: E245_MARM_170517 | D22: Bibl31 | E22: Y | F22: 157 | G22: 163 | I22: =IF(F22=N22,"",1) | J22: =IF(G22=O22,"",1) | K22: =IF(OR(I22=1,J22=1),1,"") | L22: 1373 | M22: Bibl31 | N22: 157 | O22: 163
A23: 1_1373_K15_054.fsa | B23: 1373 | C23: E245_MARM_170517 | D23: Bibl4 | E23: R | F23: 188 | G23: 190 | I23: =IF(F23=N23,"",1) -> 1 | J23: =IF(G23=O23,"",1) -> 1 | K23: =IF(OR(I23=1,J23=1),1,"") -> 1 | L23: 1373 | M23: Bibl4 | P23: =IF(AND(F23<>"", N23=""),1, "") -> 1 | Q23: =IF(AND(N23<>"", F23=""),1, "")
A24: 2_1373_L15_054.fsa | B24: 1373 | C24: E245_MARM_170517 | D24: Ma001 | E24: B | I24: =IF(F24=N24,"",1) | J24: =IF(G24=O24,"",1) | K24: =IF(OR(I24=1,J24=1),1,"") | L24: 1373 | M24: Ma001
A25: 2_1373_L15_054.fsa | B25: 1373 | C25: E245_MARM_170517 | D25: Ma002 | E25: Y | I25: =IF(F25=N25,"",1) -> 1 | J25: =IF(G25=O25,"",1) -> 1 | K25: =IF(OR(I25=1,J25=1),1,"") -> 1 | L25: 1373 | M25: Ma002 | N25: 271 | O25: 279 | P25: =IF(AND(F25<>"", N25=""),1, "") | Q25: =IF(AND(N25<>"", F25=""),1, "") -> 1
A26: 2_1373_L15_054.fsa | B26: 1373 | C26: E245_MARM_170517 | D26: Ma018 | E26: G | F26: 296 | G26: 298 | I26: =IF(F26=N26,"",1) | J26: =IF(G26=O26,"",1) | K26: =IF(OR(I26=1,J26=1),1,"") | L26: 1373 | M26: Ma018 | N26: 296 | O26: 298
A27: 2_1373_L15_054.fsa | B27: 1373 | C27: E245_MARM_170517 | D27: Ma066 | E27: B | F27: 231 | I27: =IF(F27=N27,"",1) | J27: =IF(G27=O27,"",1) | K27: =IF(OR(I27=1,J27=1),1,"") | L27: 1373 | M27: Ma066 | N27: 231
A28: 1_1373_K15_054.fsa | B28: 1373 | C28: E245_MARM_170517 | D28: Ma091 | E28: B | F28: 173 | G28: 175 | I28: =IF(F28=N28,"",1) | J28: =IF(G28=O28,"",1) | K28: =IF(OR(I28=1,J28=1),1,"") | L28: 1373 | M28: Ma091 | N28: 173 | O28: 175
A29: 2_1373_L15_054.fsa | B29: 1373 | C29: E245_MARM_170517 | D29: MS41 | E29: G | F29: 186 | I29: =IF(F29=N29,"",1) | J29: =IF(G29=O29,"",1) | K29: =IF(OR(I29=1,J29=1),1,"") | L29: 1373 | M29: MS41 | N29: 186
A30: 2_1373_L15_054.fsa | B30: 1373 | C30: E245_MARM_170517 | D30: MS45 | E30: B | F30: 107 | G30: 109 | I30: =IF(F30=N30,"",1) | J30: =IF(G30=O30,"",1) | K30: =IF(OR(I30=1,J30=1),1,"") | L30: 1373 | M30: MS45 | N30: 107 | O30: 109
A31: 1_1373_K15_054.fsa | B31: 1373 | C31: E245_MARM_170517 | D31: MS47 | E31: Y | F31: 180 | I31: =IF(F31=N31,"",1) | J31: =IF(G31=O31,"",1) | K31: =IF(OR(I31=1,J31=1),1,"") | L31: 1373 | M31: MS47 | N31: 180
A32: 1_1373_K15_054.fsa | B32: 1373 | C32: E245_MARM_170517 | D32: MS53 | E32: Y | F32: 142 | I32: =IF(F32=N32,"",1) | J32: =IF(G32=O32,"",1) | K32: =IF(OR(I32=1,J32=1),1,"") | L32: 1373 | M32: MS53 | N32: 142
A33: 1_1373_K15_054.fsa | B33: 1373 | C33: E245_MARM_170517 | D33: MS56 | E33: G | F33: 106 | I33: =IF(F33=N33,"",1) | J33: =IF(G33=O33,"",1) | K33: =IF(OR(I33=1,J33=1),1,"") | L33: 1373 | M33: MS56 | N33: 106
A34: 1_1373_K15_054.fsa | B34: 1373 | C34: E245_MARM_170517 | D34: MS6 | E34: G | F34: 158 | I34: =IF(F34=N34,"",1) | J34: =IF(G34=O34,"",1) | K34: =IF(OR(I34=1,J34=1),1,"") | L34: 1373 | M34: MS6 | N34: 158
A35: 2_1373_L15_054.fsa | B35: 1373 | C35: E245_MARM_170517 | D35: ST10 | E35: G | F35: 116 | G35: 118 | I35: =IF(F35=N35,"",1) | J35: =IF(G35=O35,"",1) | K35: =IF(OR(I35=1,J35=1),1,"") | L35: 1373 | M35: ST10 | N35: 116 | O35: 118
A36: 1_1417_A13_063.fsa | B36: 1417 | C36: E245_MARM_170517 | D36: Bibl1 | E36: B | F36: 101 | G36: 103 | I36: =IF(F36=N36,"",1) | J36: =IF(G36=O36,"",1) | K36: =IF(OR(I36=1,J36=1),1,"") | L36: 1417 | M36: Bibl1 | N36: 101 | O36: 103
A37: 2_1417_B13_063.fsa | B37: 1417 | C37: E245_MARM_170517 | D37: Bibl18 | E37: R | F37: 143 | G37: 145 | I37: =IF(F37=N37,"",1) | J37: =IF(G37=O37,"",1) | K37: =IF(OR(I37=1,J37=1),1,"") | L37: 1417 | M37: Bibl18 | N37: 143 | O37: 145
A38: 1_1417_A13_063.fsa | B38: 1417 | C38: E245_MARM_170517 | D38: Bibl20 | E38: G | F38: 208 | I38: =IF(F38=N38,"",1) | J38: =IF(G38=O38,"",1) | K38: =IF(OR(I38=1,J38=1),1,"") | L38: 1417 | M38: Bibl20 | N38: 208
A39: 2_1417_B13_063.fsa | B39: 1417 | C39: E245_MARM_170517 | D39: Bibl31 | E39: Y | F39: 157 | G39: 161 | I39: =IF(F39=N39,"",1) | J39: =IF(G39=O39,"",1) | K39: =IF(OR(I39=1,J39=1),1,"") | L39: 1417 | M39: Bibl31 | N39: 157 | O39: 161
A40: 1_1417_A13_063.fsa | B40: 1417 | C40: E245_MARM_170517 | D40: Bibl4 | E40: R | I40: =IF(F40=N40,"",1) | J40: =IF(G40=O40,"",1) | K40: =IF(OR(I40=1,J40=1),1,"") | L40: 1417 | M40: Bibl4
A41: 2_1417_B13_063.fsa | B41: 1417 | C41: E245_MARM_170517 | D41: Ma001 | E41: B | F41: 305 | I41: =IF(F41=N41,"",1) | J41: =IF(G41=O41,"",1) | K41: =IF(OR(I41=1,J41=1),1,"") | L41: 1417 | M41: Ma001 | N41: 305
A42: 2_1417_B13_063.fsa | B42: 1417 | C42: E245_MARM_170517 | D42: Ma002 | E42: Y | F42: 271 | G42: 283 | I42: =IF(F42=N42,"",1) | J42: =IF(G42=O42,"",1) | K42: =IF(OR(I42=1,J42=1),1,"") | L42: 1417 | M42: Ma002 | N42: 271 | O42: 283
A43: 2_1417_B13_063.fsa | B43: 1417 | C43: E245_MARM_170517 | D43: Ma018 | E43: G | F43: 298 | I43: =IF(F43=N43,"",1) | J43: =IF(G43=O43,"",1) | K43: =IF(OR(I43=1,J43=1),1,"") | L43: 1417 | M43: Ma018 | N43: 298
A44: 2_1417_B13_063.fsa | B44: 1417 | C44: E245_MARM_170517 | D44: Ma066 | E44: B | F44: 231 | G44: 241 | I44: =IF(F44=N44,"",1) | J44: =IF(G44=O44,"",1) | K44: =IF(OR(I44=1,J44=1),1,"") | L44: 1417 | M44: Ma066 | N44: 231 | O44: 241
A45: 1_1417_A13_063.fsa | B45: 1417 | C45: E245_MARM_170517 | D45: Ma091 | E45: B | F45: 173 | G45: 175 | I45: =IF(F45=N45,"",1) | J45: =IF(G45=O45,"",1) | K45: =IF(OR(I45=1,J45=1),1,"") | L45: 1417 | M45: Ma091 | N45: 173 | O45: 175
A46: 2_1417_B13_063.fsa | B46: 1417 | C46: E245_MARM_170517 | D46: MS41 | E46: G | F46: 184 | G46: 186 | I46: =IF(F46=N46,"",1) | J46: =IF(G46=O46,"",1) | K46: =IF(OR(I46=1,J46=1),1,"") | L46: 1417 | M46: MS41 | N46: 184 | O46: 186
A47: 2_1417_B13_063.fsa | B47: 1417 | C47: E245_MARM_170517 | D47: MS45 | E47: B | F47: 109 | G47: 111 | I47: =IF(F47=N47,"",1) | J47: =IF(G47=O47,"",1) | K47: =IF(OR(I47=1,J47=1),1,"") | L47: 1417 | M47: MS45 | N47: 109 | O47: 111
A48: 1_1417_A13_063.fsa | B48: 1417 | C48: E245_MARM_170517 | D48: MS47 | E48: Y | F48: 176 | G48: 184 | I48: =IF(F48=N48,"",1) | J48: =IF(G48=O48,"",1) | K48: =IF(OR(I48=1,J48=1),1,"") | L48: 1417 | M48: MS47 | N48: 176 | O48: 184
A49: 1_1417_A13_063.fsa | B49: 1417 | C49: E245_MARM_170517 | D49: MS53 | E49: Y | F49: 140 | G49: 142 | I49: =IF(F49=N49,"",1) | J49: =IF(G49=O49,"",1) | K49: =IF(OR(I49=1,J49=1),1,"") | L49: 1417 | M49: MS53 | N49: 140 | O49: 142
A50: 1_1417_A13_063.fsa | B50: 1417 | C50: E245_MARM_170517 | D50: MS56 | E50: G | F50: 108 | I50: =IF(F50=N50,"",1) | J50: =IF(G50=O50,"",1) | K50: =IF(OR(I50=1,J50=1),1,"") | L50: 1417 | M50: MS56 | N50: 108
A51: 1_1417_A13_063.fsa | B51: 1417 | C51: E245_MARM_170517 | D51: MS6 | E51: G | F51: 158 | I51: =IF(F51=N51,"",1) | J51: =IF(G51=O51,"",1) | K51: =IF(OR(I51=1,J51=1),1,"") | L51: 1417 | M51: MS6 | N51: 158
A52: 2_1417_B13_063.fsa | B52: 1417 | C52: E245_MARM_170517 | D52: ST10 | E52: G | F52: 130 | G52: 136 | I52: =IF(F52=N52,"",1) | J52: =IF(G52=O52,"",1) | K52: =IF(OR(I52=1,J52=1),1,"") | L52: 1417 | M52: ST10 | N52: 130 | O52: 136
A53: 1_1499_A21_095.fsa | B53: 1499 | C53: E245_MARM_170517 | D53: Bibl1 | E53: B | F53: 97 | G53: 107 | I53: =IF(F53=N53,"",1) | J53: =IF(G53=O53,"",1) | K53: =IF(OR(I53=1,J53=1),1,"") | L53: 1499 | M53: Bibl1 | N53: 97 | O53: 107
A54: 2_1499_B21_095.fsa | B54: 1499 | C54: E245_MARM_170517 | D54: Bibl18 | E54: R | F54: 145 | I54: =IF(F54=N54,"",1) | J54: =IF(G54=O54,"",1) | K54: =IF(OR(I54=1,J54=1),1,"") | L54: 1499 | M54: Bibl18 | N54: 145
A55: 1_1499_A21_095.fsa | B55: 1499 | C55: E245_MARM_170517 | D55: Bibl20 | E55: G | F55: 206 | G55: 208 | I55: =IF(F55=N55,"",1) | J55: =IF(G55=O55,"",1) | K55: =IF(OR(I55=1,J55=1),1,"") | L55: 1499 | M55: Bibl20 | N55: 206 | O55: 208
A56: 2_1499_B21_095.fsa | B56: 1499 | C56: E245_MARM_170517 | D56: Bibl31 | E56: Y | F56: 157 | G56: 161 | I56: =IF(F56=N56,"",1) | J56: =IF(G56=O56,"",1) | K56: =IF(OR(I56=1,J56=1),1,"") | L56: 1499 | M56: Bibl31 | N56: 157 | O56: 161
A57: 1_1499_A21_095.fsa | B57: 1499 | C57: E245_MARM_170517 | D57: Bibl4 | E57: R | F57: 190 | I57: =IF(F57=N57,"",1) | J57: =IF(G57=O57,"",1) | K57: =IF(OR(I57=1,J57=1),1,"") | L57: 1499 | M57: Bibl4 | N57: 190
A58: 2_1499_B21_095.fsa | B58: 1499 | C58: E245_MARM_170517 | D58: Ma001 | E58: B | F58: 305 | I58: =IF(F58=N58,"",1) | J58: =IF(G58=O58,"",1) | K58: =IF(OR(I58=1,J58=1),1,"") | L58: 1499 | M58: Ma001 | N58: 305
A59: 2_1499_B21_095.fsa | B59: 1499 | C59: E245_MARM_170517 | D59: Ma002 | E59: Y | F59: 279 | G59: 283 | I59: =IF(F59=N59,"",1) | J59: =IF(G59=O59,"",1) | K59: =IF(OR(I59=1,J59=1),1,"") | L59: 1499 | M59: Ma002 | N59: 279 | O59: 283
A60: 2_1499_B21_095.fsa | B60: 1499 | C60: E245_MARM_170517 | D60: Ma018 | E60: G | F60: 296 | G60: 298 | I60: =IF(F60=N60,"",1) | J60: =IF(G60=O60,"",1) | K60: =IF(OR(I60=1,J60=1),1,"") | L60: 1499 | M60: Ma018 | N60: 296 | O60: 298
A61: 2_1499_B21_095.fsa | B61: 1499 | C61: E245_MARM_170517 | D61: Ma066 | E61: B | F61: 231 | G61: 241 | I61: =IF(F61=N61,"",1) | J61: =IF(G61=O61,"",1) | K61: =IF(OR(I61=1,J61=1),1,"") | L61: 1499 | M61: Ma066 | N61: 231 | O61: 241
A62: 1_1499_A21_095.fsa | B62: 1499 | C62: E245_MARM_170517 | D62: Ma091 | E62: B | F62: 173 | G62: 179 | I62: =IF(F62=N62,"",1) | J62: =IF(G62=O62,"",1) | K62: =IF(OR(I62=1,J62=1),1,"") | L62: 1499 | M62: Ma091 | N62: 173 | O62: 179
A63: 2_1499_B21_095.fsa | B63: 1499 | C63: E245_MARM_170517 | D63: MS41 | E63: G | F63: 184 | G63: 186 | I63: =IF(F63=N63,"",1) | J63: =IF(G63=O63,"",1) | K63: =IF(OR(I63=1,J63=1),1,"") | L63: 1499 | M63: MS41 | N63: 184 | O63: 186
A64: 2_1499_B21_095.fsa | B64: 1499 | C64: E245_MARM_170517 | D64: MS45 | E64: B | F64: 109 | G64: 111 | I64: =IF(F64=N64,"",1) | J64: =IF(G64=O64,"",1) | K64: =IF(OR(I64=1,J64=1),1,"") | L64: 1499 | M64: MS45 | N64: 109 | O64: 111
A65: 1_1499_A21_095.fsa | B65: 1499 | C65: E245_MARM_170517 | D65: MS47 | E65: Y | F65: 184 | G65: 186 | I65: =IF(F65=N65,"",1) | J65: =IF(G65=O65,"",1) | K65: =IF(OR(I65=1,J65=1),1,"") | L65: 1499 | M65: MS47 | N65: 184 | O65: 186
A66: 1_1499_A21_095.fsa | B66: 1499 | C66: E245_MARM_170517 | D66: MS53 | E66: Y | F66: 142 | G66: 144 | I66: =IF(F66=N66,"",1) | J66: =IF(G66=O66,"",1) | K66: =IF(OR(I66=1,J66=1),1,"") | L66: 1499 | M66: MS53 | N66: 142 | O66: 144
A67: 1_1499_A21_095.fsa | B67: 1499 | C67: E245_MARM_170517 | D67: MS56 | E67: G | F67: 104 | G67: 106 | I67: =IF(F67=N67,"",1) | J67: =IF(G67=O67,"",1) | K67: =IF(OR(I67=1,J67=1),1,"") | L67: 1499 | M67: MS56 | N67: 104 | O67: 106
A68: 1_1499_A21_095.fsa | B68: 1499 | C68: E245_MARM_170517 | D68: MS6 | E68: G | F68: 158 | I68: =IF(F68=N68,"",1) | J68: =IF(G68=O68,"",1) | K68: =IF(OR(I68=1,J68=1),1,"") | L68: 1499 | M68: MS6 | N68: 158
A69: 2_1499_B21_095.fsa | B69: 1499 | C69: E245_MARM_170517 | D69: ST10 | E69: G | F69: 132 | G69: 136 | I69: =IF(F69=N69,"",1) | J69: =IF(G69=O69,"",1) | K69: =IF(OR(I69=1,J69=1),1,"") | L69: 1499 | M69: ST10 | N69: 132 | O69: 136
A70: 1_1598_O21_081.fsa | B70: 1598 | C70: E245_MARM_170517 | D70: Bibl1 | E70: B | I70: =IF(F70=N70,"",1) | J70: =IF(G70=O70,"",1) | K70: =IF(OR(I70=1,J70=1),1,"") | L70: 1598 | M70: Bibl1
A71: 2_1598_P21_081.fsa | B71: 1598 | C71: E245_MARM_170517 | D71: Bibl18 | E71: R | F71: 143 | G71: 147 | I71: =IF(F71=N71,"",1) | J71: =IF(G71=O71,"",1) | K71: =IF(OR(I71=1,J71=1),1,"") | L71: 1598 | M71: Bibl18 | N71: 143 | O71: 147
A72: 1_1598_O21_081.fsa | B72: 1598 | C72: E245_MARM_170517 | D72: Bibl20 | E72: G | I72: =IF(F72=N72,"",1) | J72: =IF(G72=O72,"",1) | K72: =IF(OR(I72=1,J72=1),1,"") | L72: 1598 | M72: Bibl20
A73: 2_1598_P21_081.fsa | B73: 1598 | C73: E245_MARM_170517 | D73: Bibl31 | E73: Y | F73: 157 | G73: 159 | I73: =IF(F73=N73,"",1) | J73: =IF(G73=O73,"",1) | K73: =IF(OR(I73=1,J73=1),1,"") | L73: 1598 | M73: Bibl31 | N73: 157 | O73: 159
A74: 1_1598_O21_081.fsa | B74: 1598 | C74: E245_MARM_170517 | D74: Bibl4 | E74: R | I74: =IF(F74=N74,"",1) | J74: =IF(G74=O74,"",1) | K74: =IF(OR(I74=1,J74=1),1,"") | L74: 1598 | M74: Bibl4
A75: 2_1598_P21_081.fsa | B75: 1598 | C75: E245_MARM_170517 | D75: Ma001 | E75: B | F75: 305 | I75: =IF(F75=N75,"",1) | J75: =IF(G75=O75,"",1) | K75: =IF(OR(I75=1,J75=1),1,"") | L75: 1598 | M75: Ma001 | N75: 305
A76: 2_1598_P21_081.fsa | B76: 1598 | C76: E245_MARM_170517 | D76: Ma002 | E76: Y | F76: 279 | G76: 281 | I76: =IF(F76=N76,"",1) | J76: =IF(G76=O76,"",1) | K76: =IF(OR(I76=1,J76=1),1,"") | L76: 1598 | M76: Ma002 | N76: 279 | O76: 281
A77: 2_1598_P21_081.fsa | B77: 1598 | C77: E245_MARM_170517 | D77: Ma018 | E77: G | F77: 298 | I77: =IF(F77=N77,"",1) | J77: =IF(G77=O77,"",1) | K77: =IF(OR(I77=1,J77=1),1,"") | L77: 1598 | M77: Ma018 | N77: 298
A78: 2_1598_P21_081.fsa | B78: 1598 | C78: E245_MARM_170517 | D78: Ma066 | E78: B | F78: 231 | G78: 241 | I78: =IF(F78=N78,"",1) | J78: =IF(G78=O78,"",1) | K78: =IF(OR(I78=1,J78=1),1,"") | L78: 1598 | M78: Ma066 | N78: 231 | O78: 241
A79: 1_1598_O21_081.fsa | B79: 1598 | C79: E245_MARM_170517 | D79: Ma091 | E79: B | I79: =IF(F79=N79,"",1) | J79: =IF(G79=O79,"",1) | K79: =IF(OR(I79=1,J79=1),1,"") | L79: 1598 | M79: Ma091
A80: 2_1598_P21_081.fsa | B80: 1598 | C80: E245_MARM_170517 | D80: MS41 | E80: G | F80: 186 | I80: =IF(F80=N80,"",1) | J80: =IF(G80=O80,"",1) | K80: =IF(OR(I80=1,J80=1),1,"") | L80: 1598 | M80: MS41 | N80: 186
A81: 2_1598_P21_081.fsa | B81: 1598 | C81: E245_MARM_170517 | D81: MS45 | E81: B | F81: 107 | G81: 109 | I81: =IF(F81=N81,"",1) | J81: =IF(G81=O81,"",1) | K81: =IF(OR(I81=1,J81=1),1,"") | L81: 1598 | M81: MS45 | N81: 107 | O81: 109
A82: 1_1598_O21_081.fsa | B82: 1598 | C82: E245_MARM_170517 | D82: MS47 | E82: Y | I82: =IF(F82=N82,"",1) | J82: =IF(G82=O82,"",1) | K82: =IF(OR(I82=1,J82=1),1,"") | L82: 1598 | M82: MS47
A83: 1_1598_O21_081.fsa | B83: 1598 | C83: E245_MARM_170517 | D83: MS53 | E83: Y | I83: =IF(F83=N83,"",1) | J83: =IF(G83=O83,"",1) | K83: =IF(OR(I83=1,J83=1),1,"") | L83: 1598 | M83: MS53
A84: 1_1598_O21_081.fsa | B84: 1598 | C84: E245_MARM_170517 | D84: MS56 | E84: G | F84: 106 | G84: 108 | I84: =IF(F84=N84,"",1) | J84: =IF(G84=O84,"",1) | K84: =IF(OR(I84=1,J84=1),1,"") | L84: 1598 | M84: MS56 | N84: 106 | O84: 108
A85: 1_1598_O21_081.fsa | B85: 1598 | C85: E245_MARM_170517 | D85: MS6 | E85: G | I85: =IF(F85=N85,"",1) | J85: =IF(G85=O85,"",1) | K85: =IF(OR(I85=1,J85=1),1,"") | L85: 1598 | M85: MS6
A86: 2_1598_P21_081.fsa | B86: 1598 | C86: E245_MARM_170517 | D86: ST10 | E86: G | F86: 116 | G86: 120 | I86: =IF(F86=N86,"",1) | J86: =IF(G86=O86,"",1) | K86: =IF(OR(I86=1,J86=1),1,"") | L86: 1598 | M86: ST10 | N86: 116 | O86: 120
A87: 1_1606_A01_015.fsa | B87: 1606 | C87: E245_MARM_170517 | D87: Bibl1 | E87: B | F87: 101 | I87: =IF(F87=N87,"",1) | J87: =IF(G87=O87,"",1) | K87: =IF(OR(I87=1,J87=1),1,"") | L87: 1606 | M87: Bibl1 | N87: 101
A88: 2_1606_B01_015.fsa | B88: 1606 | C88: E245_MARM_170517 | D88: Bibl18 | E88: R | F88: 143 | G88: 147 | I88: =IF(F88=N88,"",1) | J88: =IF(G88=O88,"",1) | K88: =IF(OR(I88=1,J88=1),1,"") | L88: 1606 | M88: Bibl18 | N88: 143 | O88: 147
A89: 1_1606_A01_015.fsa | B89: 1606 | C89: E245_MARM_170517 | D89: Bibl20 | E89: G | F89: 208 | I89: =IF(F89=N89,"",1) | J89: =IF(G89=O89,"",1) | K89: =IF(OR(I89=1,J89=1),1,"") | L89: 1606 | M89: Bibl20 | N89: 208
A90: 2_1606_B01_015.fsa | B90: 1606 | C90: E245_MARM_170517 | D90: Bibl31 | E90: Y | F90: 157 | G90: 159 | I90: =IF(F90=N90,"",1) | J90: =IF(G90=O90,"",1) | K90: =IF(OR(I90=1,J90=1),1,"") | L90: 1606 | M90: Bibl31 | N90: 157 | O90: 159
A91: 1_1606_A01_015.fsa | B91: 1606 | C91: E245_MARM_170517 | D91: Bibl4 | E91: R | F91: 190 | I91: =IF(F91=N91,"",1) | J91: =IF(G91=O91,"",1) | K91: =IF(OR(I91=1,J91=1),1,"") | L91: 1606 | M91: Bibl4 | N91: 190
A92: 2_1606_B01_015.fsa | B92: 1606 | C92: E245_MARM_170517 | D92: Ma001 | E92: B | F92: 305 | I92: =IF(F92=N92,"",1) | J92: =IF(G92=O92,"",1) | K92: =IF(OR(I92=1,J92=1),1,"") | L92: 1606 | M92: Ma001 | N92: 305
A93: 2_1606_B01_015.fsa | B93: 1606 | C93: E245_MARM_170517 | D93: Ma002 | E93: Y | I93: =IF(F93=N93,"",1) | J93: =IF(G93=O93,"",1) | K93: =IF(OR(I93=1,J93=1),1,"") | L93: 1606 | M93: Ma002
A94: 2_1606_B01_015.fsa | B94: 1606 | C94: E245_MARM_170517 | D94: Ma018 | E94: G | F94: 298 | I94: =IF(F94=N94,"",1) | J94: =IF(G94=O94,"",1) | K94: =IF(OR(I94=1,J94=1),1,"") | L94: 1606 | M94: Ma018 | N94: 298
A95: 2_1606_B01_015.fsa | B95: 1606 | C95: E245_MARM_170517 | D95: Ma066 | E95: B | F95: 231 | G95: 241 | I95: =IF(F95=N95,"",1) | J95: =IF(G95=O95,"",1) | K95: =IF(OR(I95=1,J95=1),1,"") | L95: 1606 | M95: Ma066 | N95: 231 | O95: 241
A96: 1_1606_A01_015.fsa | B96: 1606 | C96: E245_MARM_170517 | D96: Ma091 | E96: B | F96: 175 | G96: 179 | I96: =IF(F96=N96,"",1) | J96: =IF(G96=O96,"",1) | K96: =IF(OR(I96=1,J96=1),1,"") | L96: 1606 | M96: Ma091 | N96: 175 | O96: 179
A97: 2_1606_B01_015.fsa | B97: 1606 | C97: E245_MARM_170517 | D97: MS41 | E97: G | F97: 184 | G97: 186 | I97: =IF(F97=N97,"",1) | J97: =IF(G97=O97,"",1) | K97: =IF(OR(I97=1,J97=1),1,"") | L97: 1606 | M97: MS41 | N97: 184 | O97: 186
A98: 2_1606_B01_015.fsa | B98: 1606 | C98: E245_MARM_170517 | D98: MS45 | E98: B | F98: 109 | I98: =IF(F98=N98,"",1) | J98: =IF(G98=O98,"",1) -> 1 | K98: =IF(OR(I98=1,J98=1),1,"") -> 1 | L98: 1606 | M98: MS45 | N98: 109 | O98: 113 | P98: =IF(AND(F98<>"", N98=""),1, "") | Q98: =IF(AND(N98<>"", F98=""),1, "")
A99: 1_1606_A01_015.fsa | B99: 1606 | C99: E245_MARM_170517 | D99: MS47 | E99: Y | F99: 184 | G99: 186 | I99: =IF(F99=N99,"",1) | J99: =IF(G99=O99,"",1) | K99: =IF(OR(I99=1,J99=1),1,"") | L99: 1606 | M99: MS47 | N99: 184 | O99: 186
A100: 1_1606_A01_015.fsa | B100: 1606 | C100: E245_MARM_170517 | D100: MS53 | E100: Y | F100: 140 | G100: 142 | I100: =IF(F100=N100,"",1) | J100: =IF(G100=O100,"",1) | K100: =IF(OR(I100=1,J100=1),1,"") | L100: 1606 | M100: MS53 | N100: 140 | O100: 142
...

Sheet TAB_BILAN_essai2
A3: Nombre de erreur | B3: Étiquettes de colonnes
A4: Étiquettes de lignes | B4: 1 | D4: (vide) | E4: Total général | G4: Marqueur | H4: nb erreur | I4: nb correct | J4: Y
A5: Bibl1 | C5: 96 | E5: 96 | G5: Bibl4 | H5: 30 | I5: 66 | J5: =H5/SUM(H5:I5) -> 0.3125
A6: Bibl18 | B6: 4 | C6: 92 | E6: 96 | G6: MS45 | H6: 13 | I6: 83 | J6: =H6/SUM(H6:I6) -> 0.13541667
A7: Bibl20 | B7: 1 | C7: 95 | E7: 96 | G7: ST10 | H7: 12 | I7: 84 | J7: =H7/SUM(H7:I7) -> 0.125
A8: Bibl31 | B8: 2 | C8: 94 | E8: 96 | G8: MS6 | H8: 7 | I8: 89 | J8: =H8/SUM(H8:I8) -> 0.072916667
A9: Bibl4 | B9: 30 | C9: 66 | E9: 96 | G9: Bibl18 | H9: 4 | I9: 92 | J9: =H9/SUM(H9:I9) -> 0.041666667
A10: Ma001 | C10: 96 | E10: 96 | G10: Ma066 | H10: 4 | I10: 92 | J10: =H10/SUM(H10:I10) -> 0.041666667
A11: Ma002 | B11: 2 | C11: 94 | E11: 96 | G11: MS47 | H11: 4 | I11: 92 | J11: =H11/SUM(H11:I11) -> 0.041666667
A12: Ma018 | B12: 3 | C12: 93 | E12: 96 | G12: Ma018 | H12: 3 | I12: 93 | J12: =H12/SUM(H12:I12) -> 0.03125
A13: Ma066 | B13: 4 | C13: 92 | E13: 96 | G13: MS53 | H13: 3 | I13: 93 | J13: =H13/SUM(H13:I13) -> 0.03125
A14: Ma091 | C14: 96 | E14: 96 | G14: Bibl31 | H14: 2 | I14: 94 | J14: =H14/SUM(H14:I14) -> 0.020833333
A15: MS41 | B15: 1 | C15: 95 | E15: 96 | G15: Ma002 | H15: 2 | I15: 94 | J15: =H15/SUM(H15:I15) -> 0.020833333
A16: MS45 | B16: 13 | C16: 83 | E16: 96 | G16: Bibl20 | H16: 1 | I16: 95 | J16: =H16/SUM(H16:I16) -> 0.010416667
A17: MS47 | B17: 4 | C17: 92 | E17: 96 | G17: MS41 | H17: 1 | I17: 95 | J17: =H17/SUM(H17:I17) -> 0.010416667
A18: MS53 | B18: 3 | C18: 93 | E18: 96 | G18: MS56 | H18: 1 | I18: 95 | J18: =H18/SUM(H18:I18) -> 0.010416667
A19: MS56 | B19: 1 | C19: 95 | E19: 96 | G19: Bibl1 | H19: 0 | I19: 96 | J19: =H19/SUM(H19:I19) -> 0
A20: MS6 | B20: 7 | C20: 89 | E20: 96 | G20: Ma001 | H20: 0 | I20: 96 | J20: =H20/SUM(H20:I20) -> 0
A21: ST10 | B21: 12 | C21: 84 | E21: 96 | G21: Ma091 | H21: 0 | I21: 96 | J21: =H21/SUM(H21:I21) -> 0
A22: (vide)
A23: Total général | B23: 87 | C23: 1545 | E23: 1632
